Workbook

Sheet Combined Wages
A1: Location | B1: DEL111 | G1: Bill No. | H1: 0
A2: Month | B2: 43586 | G2: Head Count | H2: 35
A3: Vendor | B3: DM Industries | G3: Project | H3: DHL-Okhla-C-53 (HP-PPS)
A4: Employee's Particulars | K4: Attendance Summery | P4: Actual Rates | U4: Earning Summery | AC4: Employee's Deduction | AF4: Payble | AG4: Employer's Cost | AO4: Final Billing Cost
A5: S.No. | B5: MARS ID | C5: Vendor Code | D5: Name of Employee | E5: Father's Name | F5: DOJ | G5: Designation | H5: Category | I5: UAN | J5: ESIC | K5: Working Days | L5: No. of Present Days | M5: Paid Holiday | N5: Arrear Days | O5: Total No. of Payble Days | P5: Basic+VDA | Q5: HRA | R5: Conveyance Allow. | S5: Other Allowence Rate | T5: Total Monthly Gross | U5: Basic+VDA | V5: HRA | W5: Conveyance Allowence | X5: Other Allowence | Y5: Monthly Gross | Z5: Monthly Bonus (If Applicable) | AA5: Leave Encashment | AB5: Total Gross Earned (A) | AC5: Employee Contribution on ESIC (1.75%) | AD5: Employee Contribution on PF (12%) | AE5: Employee LWF Contribution | AF5: Net earning | AG5: Employer Contribution on ESIC (4.75%) | AH5: Employer Contribution PF (13%) | AI5: Employer Contribution on LWF | AJ5: Uniform | AK5: Attendance + Performance Incentive (If Any) | AL5: Total (B) | AM5: Wage cost (A+B) | AN5: Agency Service Charge (C) | AO5: SUB TOTAL A+B+C=D | AP5: GST 18% ON D | AQ5: CTC | AR5: DOB | AS5: Aadhar No.
A6: 1 | B6: 3562016849 | C6: 4574 | D6: Mohit Garg | E6: Thakur Das | F6: 43344 | G6: MHE | H6: Un-Skilled | I6: 100064441627 | J6: 6923778712 | K6: 27 | L6: =VLOOKUP(B6,'[1]CBT Attendance'!$B$2:$F$29,5,0) -> 23 | O6: =SUM(L6:N6) -> 23 | P6: 14025 | Q6: 0 | R6: 0 | S6: 0 | T6: =ROUND(SUM(P6:S6),0) -> 14025 | U6: =ROUND(P6/$K6*$O6,0) -> 11947 | V6: =ROUND(Q6/$K6*$O6,0) -> 0 | W6: =ROUND(R6/$K6*$O6,0) -> 0 | X6: =ROUND(S6/$K6*$O6,0) -> 0 | Y6: =ROUND(SUM(U6:X6),0) -> 11947 | AA6: =ROUND(Y6*5.76%,0) -> 688 | AB6: =Y6+AA6+Z6 -> 12635 | AC6: =ROUNDUP(IF(T6>21000,0,AB6*1.75%),0) -> 222 | AD6: =ROUND(U6*12%,0) -> 1434 | AE6: 1 | AF6: =ROUND((AB6+AK6)-(AC6+AD6+AE6),0) -> 10978 | AG6: =ROUNDUP(AB6*4.75%,0) -> 601 | AH6: =ROUND(U6*13%,0) -> 1553 | AI6: 2 | AJ6: =ROUND(183/K6*O6,0) -> 156 | AL6: =SUM(AG6:AK6) -> 2312 | AM6: =AB6+AL6 -> 14947 | AN6: =ROUND(500/K6*O6,0) -> 426 | AO6: =AM6+AN6 -> 15373 | AP6: =ROUND(AO6*18%,0) -> 2767 | AQ6: =AO6+AP6 -> 18140 | AU6: 3562016849
A7: 2 | B7: 3562016847 | C7: 4577 | D7: Devender | E7: Ramesh Chand | F7: 43344 | G7: MHE | H7: Un-Skilled | I7: 100048441966 | J7: 6923778869 | K7: 27 | L7: =VLOOKUP(B7,'[1]CBT Attendance'!$B$2:$F$29,5,0) -> 22 | O7: =SUM(L7:N7) -> 22 | P7: 14025 | Q7: 0 | R7: 0 | S7: 0 | T7: =ROUND(SUM(P7:S7),0) -> 14025 | U7: =ROUND(P7/$K7*$O7,0) -> 11428 | V7: =ROUND(Q7/$K7*$O7,0) -> 0 | W7: =ROUND(R7/$K7*$O7,0) -> 0 | X7: =ROUND(S7/$K7*$O7,0) -> 0 | Y7: =ROUND(SUM(U7:X7),0) -> 11428 | AA7: =ROUND(Y7*5.76%,0) -> 658 | AB7: =Y7+AA7+Z7 -> 12086 | AC7: =ROUNDUP(IF(T7>21000,0,AB7*1.75%),0) -> 212 | AD7: =ROUND(U7*12%,0) -> 1371 | AE7: 1 | AF7: =ROUND((AB7+AK7)-(AC7+AD7+AE7),0) -> 10502 | AG7: =ROUNDUP(AB7*4.75%,0) -> 575 | AH7: =ROUND(U7*13%,0) -> 1486 | AI7: 2 | AJ7: =ROUND(183/K7*O7,0) -> 149 | AL7: =SUM(AG7:AK7) -> 2212 | AM7: =AB7+AL7 -> 14298 | AN7: =ROUND(500/K7*O7,0) -> 407 | AO7: =AM7+AN7 -> 14705 | AP7: =ROUND(AO7*18%,0) -> 2647 | AQ7: =AO7+AP7 -> 17352 | AU7: 3562016847
A8: 3 | B8: 3562016837 | C8: 4578 | D8: Pradeep Burman | E8: Fatik Barman | F8: 43344 | G8: MHE | H8: Un-Skilled | I8: 100014928885 | J8: 2013503576 | K8: 27 | L8: =VLOOKUP(B8,'[1]CBT Attendance'!$B$2:$F$29,5,0) -> 25 | O8: =SUM(L8:N8) -> 25 | P8: 14025 | Q8: 0 | R8: 0 | S8: 0 | T8: =ROUND(SUM(P8:S8),0) -> 14025 | U8: =ROUND(P8/$K8*$O8,0) -> 12986 | V8: =ROUND(Q8/$K8*$O8,0) -> 0 | W8: =ROUND(R8/$K8*$O8,0) -> 0 | X8: =ROUND(S8/$K8*$O8,0) -> 0 | Y8: =ROUND(SUM(U8:X8),0) -> 12986 | AA8: =ROUND(Y8*5.76%,0) -> 748 | AB8: =Y8+AA8+Z8 -> 13734 | AC8: =ROUNDUP(IF(T8>21000,0,AB8*1.75%),0) -> 241 | AD8: =ROUND(U8*12%,0) -> 1558 | AE8: 1 | AF8: =ROUND((AB8+AK8)-(AC8+AD8+AE8),0) -> 11934 | AG8: =ROUNDUP(AB8*4.75%,0) -> 653 | AH8: =ROUND(U8*13%,0) -> 1688 | AI8: 2 | AJ8: =ROUND(183/K8*O8,0) -> 169 | AL8: =SUM(AG8:AK8) -> 2512 | AM8: =AB8+AL8 -> 16246 | AN8: =ROUND(500/K8*O8,0) -> 463 | AO8: =AM8+AN8 -> 16709 | AP8: =ROUND(AO8*18%,0) -> 3008 | AQ8: =AO8+AP8 -> 19717 | AU8: 3562016837
A9: 4 | B9: 3562016838 | C9: 4579 | D9: Rakesh Rai | E9: Lt. Kameshwar Rai | F9: 43344 | G9: MHE | H9: Un-Skilled | I9: 100029192811 | J9: 6923778874 | K9: 27 | L9: =VLOOKUP(B9,'[1]CBT Attendance'!$B$2:$F$29,5,0) -> 25 | O9: =SUM(L9:N9) -> 25 | P9: 14025 | Q9: 0 | R9: 0 | S9: 0 | T9: =ROUND(SUM(P9:S9),0) -> 14025 | U9: =ROUND(P9/$K9*$O9,0) -> 12986 | V9: =ROUND(Q9/$K9*$O9,0) -> 0 | W9: =ROUND(R9/$K9*$O9,0) -> 0 | X9: =ROUND(S9/$K9*$O9,0) -> 0 | Y9: =ROUND(SUM(U9:X9),0) -> 12986 | AA9: =ROUND(Y9*5.76%,0) -> 748 | AB9: =Y9+AA9+Z9 -> 13734 | AC9: =ROUNDUP(IF(T9>21000,0,AB9*1.75%),0) -> 241 | AD9: =ROUND(U9*12%,0) -> 1558 | AE9: 1 | AF9: =ROUND((AB9+AK9)-(AC9+AD9+AE9),0) -> 11934 | AG9: =ROUNDUP(AB9*4.75%,0) -> 653 | AH9: =ROUND(U9*13%,0) -> 1688 | AI9: 2 | AJ9: =ROUND(183/K9*O9,0) -> 169 | AL9: =SUM(AG9:AK9) -> 2512 | AM9: =AB9+AL9 -> 16246 | AN9: =ROUND(500/K9*O9,0) -> 463 | AO9: =AM9+AN9 -> 16709 | AP9: =ROUND(AO9*18%,0) -> 3008 | AQ9: =AO9+AP9 -> 19717 | AU9: 3562016838
A10: 5 | B10: 3562016848 | C10: 4582 | D10: Monu Kumar | E10: Sahankar Shah | F10: 43344 | G10: MHE | H10: Un-Skilled | I10: 100052358838 | J10: 6923778820 | K10: 27 | L10: =VLOOKUP(B10,'[1]CBT Attendance'!$B$2:$F$29,5,0) -> 24 | O10: =SUM(L10:N10) -> 24 | P10: 14025 | Q10: 0 | R10: 0 | S10: 0 | T10: =ROUND(SUM(P10:S10),0) -> 14025 | U10: =ROUND(P10/$K10*$O10,0) -> 12467 | V10: =ROUND(Q10/$K10*$O10,0) -> 0 | W10: =ROUND(R10/$K10*$O10,0) -> 0 | X10: =ROUND(S10/$K10*$O10,0) -> 0 | Y10: =ROUND(SUM(U10:X10),0) -> 12467 | AA10: =ROUND(Y10*5.76%,0) -> 718 | AB10: =Y10+AA10+Z10 -> 13185 | AC10: =ROUNDUP(IF(T10>21000,0,AB10*1.75%),0) -> 231 | AD10: =ROUND(U10*12%,0) -> 1496 | AE10: 1 | AF10: =ROUND((AB10+AK10)-(AC10+AD10+AE10),0) -> 11457 | AG10: =ROUNDUP(AB10*4.75%,0) -> 627 | AH10: =ROUND(U10*13%,0) -> 1621 | AI10: 2 | AJ10: =ROUND(183/K10*O10,0) -> 163 | AL10: =SUM(AG10:AK10) -> 2413 | AM10: =AB10+AL10 -> 15598 | AN10: =ROUND(500/K10*O10,0) -> 444 | AO10: =AM10+AN10 -> 16042 | AP10: =ROUND(AO10*18%,0) -> 2888 | AQ10: =AO10+AP10 -> 18930 | AU10: 3562016848
A11: 6 | B11: 3562016854 | C11: 4583 | D11: Gokul Mandal | E11: Lt. Jivan Krishna | F11: 43344 | G11: MHE | H11: Un-Skilled | I11: 100159108229 | J11: 2005219452 | K11: 27 | L11: =VLOOKUP(B11,'[1]CBT Attendance'!$B$2:$F$29,5,0) -> 25 | O11: =SUM(L11:N11) -> 25 | P11: 14025 | Q11: 0 | R11: 0 | S11: 0 | T11: =ROUND(SUM(P11:S11),0) -> 14025 | U11: =ROUND(P11/$K11*$O11,0) -> 12986 | V11: =ROUND(Q11/$K11*$O11,0) -> 0 | W11: =ROUND(R11/$K11*$O11,0) -> 0 | X11: =ROUND(S11/$K11*$O11,0) -> 0 | Y11: =ROUND(SUM(U11:X11),0) -> 12986 | AA11: =ROUND(Y11*5.76%,0) -> 748 | AB11: =Y11+AA11+Z11 -> 13734 | AC11: =ROUNDUP(IF(T11>21000,0,AB11*1.75%),0) -> 241 | AD11: =ROUND(U11*12%,0) -> 1558 | AE11: 1 | AF11: =ROUND((AB11+AK11)-(AC11+AD11+AE11),0) -> 11934 | AG11: =ROUNDUP(AB11*4.75%,0) -> 653 | AH11: =ROUND(U11*13%,0) -> 1688 | AI11: 2 | AJ11: =ROUND(183/K11*O11,0) -> 169 | AL11: =SUM(AG11:AK11) -> 2512 | AM11: =AB11+AL11 -> 16246 | AN11: =ROUND(500/K11*O11,0) -> 463 | AO11: =AM11+AN11 -> 16709 | AP11: =ROUND(AO11*18%,0) -> 3008 | AQ11: =AO11+AP11 -> 19717 | AU11: 3562016854
A12: 7 | B12: 3562017091 | C12: 4584 | D12: Sukhram | E12: Prem Singh | F12: 43344 | G12: SUP | H12: Skilled | I12: 100042940061 | J12: 6923778693 | K12: 27 | L12: =VLOOKUP(B12,'[1]CBT Attendance'!$B$2:$F$29,5,0) -> 20 | O12: =SUM(L12:N12) -> 20 | P12: 15427 | Q12: 0 | R12: 0 | S12: 0 | T12: =ROUND(SUM(P12:S12),0) -> 15427 | U12: =ROUND(P12/$K12*$O12,0) -> 11427 | V12: =ROUND(Q12/$K12*$O12,0) -> 0 | W12: =ROUND(R12/$K12*$O12,0) -> 0 | X12: =ROUND(S12/$K12*$O12,0) -> 0 | Y12: =ROUND(SUM(U12:X12),0) -> 11427 | AA12: =ROUND(Y12*5.76%,0) -> 658 | AB12: =Y12+AA12+Z12 -> 12085 | AC12: =ROUNDUP(IF(T12>21000,0,AB12*1.75%),0) -> 212 | AD12: =ROUND(U12*12%,0) -> 1371 | AE12: 1 | AF12: =ROUND((AB12+AK12)-(AC12+AD12+AE12),0) -> 10501 | AG12: =ROUNDUP(AB12*4.75%,0) -> 575 | AH12: =ROUND(U12*13%,0) -> 1486 | AI12: 2 | AJ12: =ROUND(183/K12*O12,0) -> 136 | AL12: =SUM(AG12:AK12) -> 2199 | AM12: =AB12+AL12 -> 14284 | AN12: =ROUND(500/K12*O12,0) -> 370 | AO12: =AM12+AN12 -> 14654 | AP12: =ROUND(AO12*18%,0) -> 2638 | AQ12: =AO12+AP12 -> 17292 | AU12: 3562017091
A13: 8 | B13: 3562016834 | C13: 4585 | D13: Manjeet Kumar | E13: Rajpal Singh Rudhir | F13: 43344 | G13: SUP | H13: Skilled | I13: 100045820193 | J13: 6923778590 | K13: 27 | L13: =VLOOKUP(B13,'[1]CBT Attendance'!$B$2:$F$29,5,0) -> 23.5 | O13: =SUM(L13:N13) -> 23.5 | P13: 15427 | Q13: 0 | R13: 0 | S13: 0 | T13: =ROUND(SUM(P13:S13),0) -> 15427 | U13: =ROUND(P13/$K13*$O13,0) -> 13427 | V13: =ROUND(Q13/$K13*$O13,0) -> 0 | W13: =ROUND(R13/$K13*$O13,0) -> 0 | X13: =ROUND(S13/$K13*$O13,0) -> 0 | Y13: =ROUND(SUM(U13:X13),0) -> 13427 | AA13: =ROUND(Y13*5.76%,0) -> 773 | AB13: =Y13+AA13+Z13 -> 14200 | AC13: =ROUNDUP(IF(T13>21000,0,AB13*1.75%),0) -> 249 | AD13: =ROUND(U13*12%,0) -> 1611 | AE13: 1 | AF13: =ROUND((AB13+AK13)-(AC13+AD13+AE13),0) -> 12339 | AG13: =ROUNDUP(AB13*4.75%,0) -> 675 | AH13: =ROUND(U13*13%,0) -> 1746 | AI13: 2 | AJ13: =ROUND(183/K13*O13,0) -> 159 | AL13: =SUM(AG13:AK13) -> 2582 | AM13: =AB13+AL13 -> 16782 | AN13: =ROUND(500/K13*O13,0) -> 435 | AO13: =AM13+AN13 -> 17217 | AP13: =ROUND(AO13*18%,0) -> 3099 | AQ13: =AO13+AP13 -> 20316 | AU13: 3562016834
A14: 9 | B14: 3562016859 | C14: 4586 | D14: Ravi Singh | E14: Chandrma Singh | F14: 43344 | G14: MHE | H14: Un-Skilled | I14: 100602011514 | J14: 6925327635 | K14: 27 | L14: =VLOOKUP(B14,'[1]CBT Attendance'!$B$2:$F$29,5,0) -> 21 | O14: =SUM(L14:N14) -> 21 | P14: 14025 | Q14: 0 | R14: 0 | S14: 0 | T14: =ROUND(SUM(P14:S14),0) -> 14025 | U14: =ROUND(P14/$K14*$O14,0) -> 10908 | V14: =ROUND(Q14/$K14*$O14,0) -> 0 | W14: =ROUND(R14/$K14*$O14,0) -> 0 | X14: =ROUND(S14/$K14*$O14,0) -> 0 | Y14: =ROUND(SUM(U14:X14),0) -> 10908 | AA14: =ROUND(Y14*5.76%,0) -> 628 | AB14: =Y14+AA14+Z14 -> 11536 | AC14: =ROUNDUP(IF(T14>21000,0,AB14*1.75%),0) -> 202 | AD14: =ROUND(U14*12%,0) -> 1309 | AE14: 1 | AF14: =ROUND((AB14+AK14)-(AC14+AD14+AE14),0) -> 10024 | AG14: =ROUNDUP(AB14*4.75%,0) -> 548 | AH14: =ROUND(U14*13%,0) -> 1418 | AI14: 2 | AJ14: =ROUND(183/K14*O14,0) -> 142 | AL14: =SUM(AG14:AK14) -> 2110 | AM14: =AB14+AL14 -> 13646 | AN14: =ROUND(500/K14*O14,0) -> 389 | AO14: =AM14+AN14 -> 14035 | AP14: =ROUND(AO14*18%,0) -> 2526 | AQ14: =AO14+AP14 -> 16561 | AU14: 3562016859
A15: 10 | B15: 3562016860 | C15: 4587 | D15: Vishnu Singh Bhadauria | E15: Keshav Singh | F15: 43344 | G15: MHE | H15: Un-Skilled | I15: 100790454436 | J15: 6926208346 | K15: 27 | L15: =VLOOKUP(B15,'[1]CBT Attendance'!$B$2:$F$29,5,0) -> 25 | O15: =SUM(L15:N15) -> 25 | P15: 14025 | Q15: 0 | R15: 0 | S15: 0 | T15: =ROUND(SUM(P15:S15),0) -> 14025 | U15: =ROUND(P15/$K15*$O15,0) -> 12986 | V15: =ROUND(Q15/$K15*$O15,0) -> 0 | W15: =ROUND(R15/$K15*$O15,0) -> 0 | X15: =ROUND(S15/$K15*$O15,0) -> 0 | Y15: =ROUND(SUM(U15:X15),0) -> 12986 | AA15: =ROUND(Y15*5.76%,0) -> 748 | AB15: =Y15+AA15+Z15 -> 13734 | AC15: =ROUNDUP(IF(T15>21000,0,AB15*1.75%),0) -> 241 | AD15: =ROUND(U15*12%,0) -> 1558 | AE15: 1 | AF15: =ROUND((AB15+AK15)-(AC15+AD15+AE15),0) -> 11934 | AG15: =ROUNDUP(AB15*4.75%,0) -> 653 | AH15: =ROUND(U15*13%,0) -> 1688 | AI15: 2 | AJ15: =ROUND(183/K15*O15,0) -> 169 | AL15: =SUM(AG15:AK15) -> 2512 | AM15: =AB15+AL15 -> 16246 | AN15: =ROUND(500/K15*O15,0) -> 463 | AO15: =AM15+AN15 -> 16709 | AP15: =ROUND(AO15*18%,0) -> 3008 | AQ15: =AO15+AP15 -> 19717 | AU15: 3562016860
A16: 11 | B16: 3562016856 | C16: 4588 | D16: Vicky Malhotra | E16: Kamal | F16: 43344 | G16: HK | H16: Un-Skilled | I16: 100602106122 | J16: 6924638559 | K16: 27 | L16: =VLOOKUP(B16,'[1]CBT Attendance'!$B$2:$F$29,5,0) -> 25 | O16: =SUM(L16:N16) -> 25 | P16: 14025 | Q16: 0 | R16: 0 | S16: 0 | T16: =ROUND(SUM(P16:S16),0) -> 14025 | U16: =ROUND(P16/$K16*$O16,0) -> 12986 | V16: =ROUND(Q16/$K16*$O16,0) -> 0 | W16: =ROUND(R16/$K16*$O16,0) -> 0 | X16: =ROUND(S16/$K16*$O16,0) -> 0 | Y16: =ROUND(SUM(U16:X16),0) -> 12986 | AA16: =ROUND(Y16*5.76%,0) -> 748 | AB16: =Y16+AA16+Z16 -> 13734 | AC16: =ROUNDUP(IF(T16>21000,0,AB16*1.75%),0) -> 241 | AD16: =ROUND(U16*12%,0) -> 1558 | AE16: 1 | AF16: =ROUND((AB16+AK16)-(AC16+AD16+AE16),0) -> 11934 | AG16: =ROUNDUP(AB16*4.75%,0) -> 653 | AH16: =ROUND(U16*13%,0) -> 1688 | AI16: 2 | AJ16: =ROUND(183/K16*O16,0) -> 169 | AL16: =SUM(AG16:AK16) -> 2512 | AM16: =AB16+AL16 -> 16246 | AN16: =ROUND(500/K16*O16,0) -> 463 | AO16: =AM16+AN16 -> 16709 | AP16: =ROUND(AO16*18%,0) -> 3008 | AQ16: =AO16+AP16 -> 19717 | AU16: 3562016856
A17: 12 | B17: 3562016857 | C17: 4589 | D17: Sonu Kumar | E17: Sunil Singh | F17: 43344 | G17: HK | H17: Un-Skilled | I17: 100602370270 | J17: 6924833805 | K17: 27 | L17: =VLOOKUP(B17,'[1]CBT Attendance'!$B$2:$F$29,5,0) -> 16.5 | O17: =SUM(L17:N17) -> 16.5 | P17: 14025 | Q17: 0 | R17: 0 | S17: 0 | T17: =ROUND(SUM(P17:S17),0) -> 14025 | U17: =ROUND(P17/$K17*$O17,0) -> 8571 | V17: =ROUND(Q17/$K17*$O17,0) -> 0 | W17: =ROUND(R17/$K17*$O17,0) -> 0 | X17: =ROUND(S17/$K17*$O17,0) -> 0 | Y17: =ROUND(SUM(U17:X17),0) -> 8571 | AA17: =ROUND(Y17*5.76%,0) -> 494 | AB17: =Y17+AA17+Z17 -> 9065 | AC17: =ROUNDUP(IF(T17>21000,0,AB17*1.75%),0) -> 159 | AD17: =ROUND(U17*12%,0) -> 1029 | AE17: 1 | AF17: =ROUND((AB17+AK17)-(AC17+AD17+AE17),0) -> 7876 | AG17: =ROUNDUP(AB17*4.75%,0) -> 431 | AH17: =ROUND(U17*13%,0) -> 1114 | AI17: 2 | AJ17: =ROUND(183/K17*O17,0) -> 112 | AL17: =SUM(AG17:AK17) -> 1659 | AM17: =AB17+AL17 -> 10724 | AN17: =ROUND(500/K17*O17,0) -> 306 | AO17: =AM17+AN17 -> 11030 | AP17: =ROUND(AO17*18%,0) -> 1985 | AQ17: =AO17+AP17 -> 13015 | AU17: 3562016857
A18: 13 | B18: 3562016858 | C18: 4590 | D18: Dharam | E18: Ramesh Singh | F18: 43344 | G18: HK | H18: Un-Skilled | I18: 100601955314 | J18: 6924833811 | K18: 27 | L18: =VLOOKUP(B18,'[1]CBT Attendance'!$B$2:$F$29,5,0) -> 25 | O18: =SUM(L18:N18) -> 25 | P18: 14025 | Q18: 0 | R18: 0 | S18: 0 | T18: =ROUND(SUM(P18:S18),0) -> 14025 | U18: =ROUND(P18/$K18*$O18,0) -> 12986 | V18: =ROUND(Q18/$K18*$O18,0) -> 0 | W18: =ROUND(R18/$K18*$O18,0) -> 0 | X18: =ROUND(S18/$K18*$O18,0) -> 0 | Y18: =ROUND(SUM(U18:X18),0) -> 12986 | AA18: =ROUND(Y18*5.76%,0) -> 748 | AB18: =Y18+AA18+Z18 -> 13734 | AC18: =ROUNDUP(IF(T18>21000,0,AB18*1.75%),0) -> 241 | AD18: =ROUND(U18*12%,0) -> 1558 | AE18: 1 | AF18: =ROUND((AB18+AK18)-(AC18+AD18+AE18),0) -> 11934 | AG18: =ROUNDUP(AB18*4.75%,0) -> 653 | AH18: =ROUND(U18*13%,0) -> 1688 | AI18: 2 | AJ18: =ROUND(183/K18*O18,0) -> 169 | AL18: =SUM(AG18:AK18) -> 2512 | AM18: =AB18+AL18 -> 16246 | AN18: =ROUND(500/K18*O18,0) -> 463 | AO18: =AM18+AN18 -> 16709 | AP18: =ROUND(AO18*18%,0) -> 3008 | AQ18: =AO18+AP18 -> 19717 | AU18: 3562016858
A19: 14 | B19: 3562018698 | C19: 4716 | D19: Rohit Kumar Jha | E19: PRADEEP JHA | F19: 43385 | G19: MHE | H19: Un-Skilled | I19: 101391614640 | J19: 6928479073 | K19: 27 | L19: =VLOOKUP(B19,'[1]CBT Attendance'!$B$2:$F$29,5,0) -> 25 | O19: =SUM(L19:N19) -> 25 | P19: 14025 | Q19: 0 | R19: 0 | S19: 0 | T19: =ROUND(SUM(P19:S19),0) -> 14025 | U19: =ROUND(P19/$K19*$O19,0) -> 12986 | V19: =ROUND(Q19/$K19*$O19,0) -> 0 | W19: =ROUND(R19/$K19*$O19,0) -> 0 | X19: =ROUND(S19/$K19*$O19,0) -> 0 | Y19: =ROUND(SUM(U19:X19),0) -> 12986 | AA19: =ROUND(Y19*5.76%,0) -> 748 | AB19: =Y19+AA19+Z19 -> 13734 | AC19: =ROUNDUP(IF(T19>21000,0,AB19*1.75%),0) -> 241 | AD19: =ROUND(U19*12%,0) -> 1558 | AE19: 1 | AF19: =ROUND((AB19+AK19)-(AC19+AD19+AE19),0) -> 11934 | AG19: =ROUNDUP(AB19*4.75%,0) -> 653 | AH19: =ROUND(U19*13%,0) -> 1688 | AI19: 2 | AJ19: =ROUND(183/K19*O19,0) -> 169 | AL19: =SUM(AG19:AK19) -> 2512 | AM19: =AB19+AL19 -> 16246 | AN19: =ROUND(500/K19*O19,0) -> 463 | AO19: =AM19+AN19 -> 16709 | AP19: =ROUND(AO19*18%,0) -> 3008 | AQ19: =AO19+AP19 -> 19717 | AU19: 3562018698
A20: 15 | B20: 3562017275 | C20: 4717 | D20: Sanjay Kumar sharma | E20: MUNESHWAR | F20: 43388 | G20: MHE | H20: Un-Skilled | I20: 100987276215 | J20: 6928479082 | K20: 27 | L20: =VLOOKUP(B20,'[1]CBT Attendance'!$B$2:$F$29,5,0) -> 25 | O20: =SUM(L20:N20) -> 25 | P20: 14025 | Q20: 0 | R20: 0 | S20: 0 | T20: =ROUND(SUM(P20:S20),0) -> 14025 | U20: =ROUND(P20/$K20*$O20,0) -> 12986 | V20: =ROUND(Q20/$K20*$O20,0) -> 0 | W20: =ROUND(R20/$K20*$O20,0) -> 0 | X20: =ROUND(S20/$K20*$O20,0) -> 0 | Y20: =ROUND(SUM(U20:X20),0) -> 12986 | AA20: =ROUND(Y20*5.76%,0) -> 748 | AB20: =Y20+AA20+Z20 -> 13734 | AC20: =ROUNDUP(IF(T20>21000,0,AB20*1.75%),0) -> 241 | AD20: =ROUND(U20*12%,0) -> 1558 | AE20: 1 | AF20: =ROUND((AB20+AK20)-(AC20+AD20+AE20),0) -> 11934 | AG20: =ROUNDUP(AB20*4.75%,0) -> 653 | AH20: =ROUND(U20*13%,0) -> 1688 | AI20: 2 | AJ20: =ROUND(183/K20*O20,0) -> 169 | AL20: =SUM(AG20:AK20) -> 2512 | AM20: =AB20+AL20 -> 16246 | AN20: =ROUND(500/K20*O20,0) -> 463 | AO20: =AM20+AN20 -> 16709 | AP20: =ROUND(AO20*18%,0) -> 3008 | AQ20: =AO20+AP20 -> 19717 | AU20: 3562017275
A21: 16 | B21: 3562016852 | C21: 4568 | D21: Omprakash | E21: HIRA LAL | F21: 43344 | G21: MHE | H21: Un-Skilled | I21: 100019118604 | J21: 6923778767 | K21: 27 | L21: =VLOOKUP(B21,'[1]CBT Attendance'!$B$2:$F$29,5,0) -> 13 | O21: =SUM(L21:N21) -> 13 | P21: 14025 | Q21: 0 | R21: 0 | S21: 0 | T21: =ROUND(SUM(P21:S21),0) -> 14025 | U21: =ROUND(P21/$K21*$O21,0) -> 6753 | V21: =ROUND(Q21/$K21*$O21,0) -> 0 | W21: =ROUND(R21/$K21*$O21,0) -> 0 | X21: =ROUND(S21/$K21*$O21,0) -> 0 | Y21: =ROUND(SUM(U21:X21),0) -> 6753 | AA21: =ROUND(Y21*5.76%,0) -> 389 | AB21: =Y21+AA21+Z21 -> 7142 | AC21: =ROUNDUP(IF(T21>21000,0,AB21*1.75%),0) -> 125 | AD21: =ROUND(U21*12%,0) -> 810 | AE21: 1 | AF21: =ROUND((AB21+AK21)-(AC21+AD21+AE21),0) -> 6206 | AG21: =ROUNDUP(AB21*4.75%,0) -> 340 | AH21: =ROUND(U21*13%,0) -> 878 | AI21: 2 | AJ21: =ROUND(183/K21*O21,0) -> 88 | AL21: =SUM(AG21:AK21) -> 1308 | AM21: =AB21+AL21 -> 8450 | AN21: =ROUND(500/K21*O21,0) -> 241 | AO21: =AM21+AN21 -> 8691 | AP21: =ROUND(AO21*18%,0) -> 1564 | AQ21: =AO21+AP21 -> 10255 | AU21: 3562016852
A22: 17 | B22: 3562018733 | C22: 5022 | D22: Sunil | E22: SHALIK RAM | F22: 43435 | G22: MHE | H22: Un-Skilled | I22: 100052616305 | J22: 6928684196 | K22: 27 | L22: =VLOOKUP(B22,'[1]CBT Attendance'!$B$2:$F$29,5,0) -> 25 | O22: =SUM(L22:N22) -> 25 | P22: 14025 | Q22: 0 | R22: 0 | S22: 0 | T22: =ROUND(SUM(P22:S22),0) -> 14025 | U22: =ROUND(P22/$K22*$O22,0) -> 12986 | V22: =ROUND(Q22/$K22*$O22,0) -> 0 | W22: =ROUND(R22/$K22*$O22,0) -> 0 | X22: =ROUND(S22/$K22*$O22,0) -> 0 | Y22: =ROUND(SUM(U22:X22),0) -> 12986 | AA22: =ROUND(Y22*5.76%,0) -> 748 | AB22: =Y22+AA22+Z22 -> 13734 | AC22: =ROUNDUP(IF(T22>21000,0,AB22*1.75%),0) -> 241 | AD22: =ROUND(U22*12%,0) -> 1558 | AE22: 1 | AF22: =ROUND((AB22+AK22)-(AC22+AD22+AE22),0) -> 11934 | AG22: =ROUNDUP(AB22*4.75%,0) -> 653 | AH22: =ROUND(U22*13%,0) -> 1688 | AI22: 2 | AJ22: =ROUND(183/K22*O22,0) -> 169 | AL22: =SUM(AG22:AK22) -> 2512 | AM22: =AB22+AL22 -> 16246 | AN22: =ROUND(500/K22*O22,0) -> 463 | AO22: =AM22+AN22 -> 16709 | AP22: =ROUND(AO22*18%,0) -> 3008 | AQ22: =AO22+AP22 -> 19717 | AU22: 3562018733
A23: 18 | B23: 3562018693 | C23: 5171 | D23: GOVIND SINGH BISHT | E23: SHALIK RAM | F23: 43417 | G23: MHE | H23: Un-Skilled | I23: 100054044626 | J23: 6928605832 | K23: 27 | L23: =VLOOKUP(B23,'[1]CBT Attendance'!$B$2:$F$29,5,0) -> 16 | O23: =SUM(L23:N23) -> 16 | P23: 14025 | Q23: 0 | R23: 0 | S23: 0 | T23: =ROUND(SUM(P23:S23),0) -> 14025 | U23: =ROUND(P23/$K23*$O23,0) -> 8311 | V23: =ROUND(Q23/$K23*$O23,0) -> 0 | W23: =ROUND(R23/$K23*$O23,0) -> 0 | X23: =ROUND(S23/$K23*$O23,0) -> 0 | Y23: =ROUND(SUM(U23:X23),0) -> 8311 | AA23: =ROUND(Y23*5.76%,0) -> 479 | AB23: =Y23+AA23+Z23 -> 8790 | AC23: =ROUNDUP(IF(T23>21000,0,AB23*1.75%),0) -> 154 | AD23: =ROUND(U23*12%,0) -> 997 | AE23: 1 | AF23: =ROUND((AB23+AK23)-(AC23+AD23+AE23),0) -> 7638 | AG23: =ROUNDUP(AB23*4.75%,0) -> 418 | AH23: =ROUND(U23*13%,0) -> 1080 | AI23: 2 | AJ23: =ROUND(183/K23*O23,0) -> 108 | AL23: =SUM(AG23:AK23) -> 1608 | AM23: =AB23+AL23 -> 10398 | AN23: =ROUND(500/K23*O23,0) -> 296 | AO23: =AM23+AN23 -> 10694 | AP23: =ROUND(AO23*18%,0) -> 1925 | AQ23: =AO23+AP23 -> 12619 | AU23: 3562018693
A24: 19 | B24: 3562018691 | C24: 5172 | D24: ALOPI NATH DHURIYA | E24: MOTI LAL | F24: 43423 | G24: MHE | H24: Un-Skilled | I24: 101314833334 | J24: 6928605851 | K24: 27 | L24: =VLOOKUP(B24,'[1]CBT Attendance'!$B$2:$F$29,5,0) -> 14 | O24: =SUM(L24:N24) -> 14 | P24: 14025 | Q24: 0 | R24: 0 | S24: 0 | T24: =ROUND(SUM(P24:S24),0) -> 14025 | U24: =ROUND(P24/$K24*$O24,0) -> 7272 | V24: =ROUND(Q24/$K24*$O24,0) -> 0 | W24: =ROUND(R24/$K24*$O24,0) -> 0 | X24: =ROUND(S24/$K24*$O24,0) -> 0 | Y24: =ROUND(SUM(U24:X24),0) -> 7272 | AA24: =ROUND(Y24*5.76%,0) -> 419 | AB24: =Y24+AA24+Z24 -> 7691 | AC24: =ROUNDUP(IF(T24>21000,0,AB24*1.75%),0) -> 135 | AD24: =ROUND(U24*12%,0) -> 873 | AE24: 1 | AF24: =ROUND((AB24+AK24)-(AC24+AD24+AE24),0) -> 6682 | AG24: =ROUNDUP(AB24*4.75%,0) -> 366 | AH24: =ROUND(U24*13%,0) -> 945 | AI24: 2 | AJ24: =ROUND(183/K24*O24,0) -> 95 | AL24: =SUM(AG24:AK24) -> 1408 | AM24: =AB24+AL24 -> 9099 | AN24: =ROUND(500/K24*O24,0) -> 259 | AO24: =AM24+AN24 -> 9358 | AP24: =ROUND(AO24*18%,0) -> 1684 | AQ24: =AO24+AP24 -> 11042 | AU24: 3562018691
A25: 20 | B25: 3562018690 | C25: 5173 | D25: Rakesh | E25: JANMEJAY UPDHYAY | F25: 43423 | G25: MHE | H25: Un-Skilled | I25: 101305290317 | J25: 6928605901 | K25: 27 | L25: =VLOOKUP(B25,'[1]CBT Attendance'!$B$2:$F$29,5,0) -> 24 | O25: =SUM(L25:N25) -> 24 | P25: 14025 | Q25: 0 | R25: 0 | S25: 0 | T25: =ROUND(SUM(P25:S25),0) -> 14025 | U25: =ROUND(P25/$K25*$O25,0) -> 12467 | V25: =ROUND(Q25/$K25*$O25,0) -> 0 | W25: =ROUND(R25/$K25*$O25,0) -> 0 | X25: =ROUND(S25/$K25*$O25,0) -> 0 | Y25: =ROUND(SUM(U25:X25),0) -> 12467 | AA25: =ROUND(Y25*5.76%,0) -> 718 | AB25: =Y25+AA25+Z25 -> 13185 | AC25: =ROUNDUP(IF(T25>21000,0,AB25*1.75%),0) -> 231 | AD25: =ROUND(U25*12%,0) -> 1496 | AE25: 1 | AF25: =ROUND((AB25+AK25)-(AC25+AD25+AE25),0) -> 11457 | AG25: =ROUNDUP(AB25*4.75%,0) -> 627 | AH25: =ROUND(U25*13%,0) -> 1621 | AI25: 2 | AJ25: =ROUND(183/K25*O25,0) -> 163 | AL25: =SUM(AG25:AK25) -> 2413 | AM25: =AB25+AL25 -> 15598 | AN25: =ROUND(500/K25*O25,0) -> 444 | AO25: =AM25+AN25 -> 16042 | AP25: =ROUND(AO25*18%,0) -> 2888 | AQ25: =AO25+AP25 -> 18930 | AU25: 3562018690
A26: 21 | B26: 3562018692 | C26: 5174 | D26: AAKASH SINGH | E26: SURENDER SINGH | F26: 43420 | G26: MHE | H26: Un-Skilled | I26: 101380346724 | J26: 6928605925 | K26: 27 | L26: =VLOOKUP(B26,'[1]CBT Attendance'!$B$2:$F$29,5,0) -> 22 | O26: =SUM(L26:N26) -> 22 | P26: 14025 | Q26: 0 | R26: 0 | S26: 0 | T26: =ROUND(SUM(P26:S26),0) -> 14025 | U26: =ROUND(P26/$K26*$O26,0) -> 11428 | V26: =ROUND(Q26/$K26*$O26,0) -> 0 | W26: =ROUND(R26/$K26*$O26,0) -> 0 | X26: =ROUND(S26/$K26*$O26,0) -> 0 | Y26: =ROUND(SUM(U26:X26),0) -> 11428 | AA26: =ROUND(Y26*5.76%,0) -> 658 | AB26: =Y26+AA26+Z26 -> 12086 | AC26: =ROUNDUP(IF(T26>21000,0,AB26*1.75%),0) -> 212 | AD26: =ROUND(U26*12%,0) -> 1371 | AE26: 1 | AF26: =ROUND((AB26+AK26)-(AC26+AD26+AE26),0) -> 10502 | AG26: =ROUNDUP(AB26*4.75%,0) -> 575 | AH26: =ROUND(U26*13%,0) -> 1486 | AI26: 2 | AJ26: =ROUND(183/K26*O26,0) -> 149 | AL26: =SUM(AG26:AK26) -> 2212 | AM26: =AB26+AL26 -> 14298 | AN26: =ROUND(500/K26*O26,0) -> 407 | AO26: =AM26+AN26 -> 14705 | AP26: =ROUND(AO26*18%,0) -> 2647 | AQ26: =AO26+AP26 -> 17352 | AU26: 3562018692
A27: 22 | B27: 3562018732 | C27: 5175 | D27: Rakesh SINGH | E27: KISHORI SINGH | F27: 43419 | G27: MHE | H27: Un-Skilled | I27: 101381078520 | J27: 6928605942 | K27: 27 | L27: =VLOOKUP(B27,'[1]CBT Attendance'!$B$2:$F$29,5,0) -> 23 | O27: =SUM(L27:N27) -> 23 | P27: 14025 | Q27: 0 | R27: 0 | S27: 0 | T27: =ROUND(SUM(P27:S27),0) -> 14025 | U27: =ROUND(P27/$K27*$O27,0) -> 11947 | V27: =ROUND(Q27/$K27*$O27,0) -> 0 | W27: =ROUND(R27/$K27*$O27,0) -> 0 | X27: =ROUND(S27/$K27*$O27,0) -> 0 | Y27: =ROUND(SUM(U27:X27),0) -> 11947 | AA27: =ROUND(Y27*5.76%,0) -> 688 | AB27: =Y27+AA27+Z27 -> 12635 | AC27: =ROUNDUP(IF(T27>21000,0,AB27*1.75%),0) -> 222 | AD27: =ROUND(U27*12%,0) -> 1434 | AE27: 1 | AF27: =ROUND((AB27+AK27)-(AC27+AD27+AE27),0) -> 10978 | AG27: =ROUNDUP(AB27*4.75%,0) -> 601 | AH27: =ROUND(U27*13%,0) -> 1553 | AI27: 2 | AJ27: =ROUND(183/K27*O27,0) -> 156 | AL27: =SUM(AG27:AK27) -> 2312 | AM27: =AB27+AL27 -> 14947 | AN27: =ROUND(500/K27*O27,0) -> 426 | AO27: =AM27+AN27 -> 15373 | AP27: =ROUND(AO27*18%,0) -> 2767 | AQ27: =AO27+AP27 -> 18140 | AU27: 3562018732
A28: 23 | B28: 3562018694 | C28: 5176 | D28: SONU KUMAR | E28: MATAL BADAL | F28: 43421 | G28: MHE | H28: Un-Skilled | I28: 101380345314 | J28: 6928605954 | K28: 27 | L28: =VLOOKUP(B28,'[1]CBT Attendance'!$B$2:$F$29,5,0) -> 23.5 | O28: =SUM(L28:N28) -> 23.5 | P28: 14025 | Q28: 0 | R28: 0 | S28: 0 | T28: =ROUND(SUM(P28:S28),0) -> 14025 | U28: =ROUND(P28/$K28*$O28,0) -> 12207 | V28: =ROUND(Q28/$K28*$O28,0) -> 0 | W28: =ROUND(R28/$K28*$O28,0) -> 0 | X28: =ROUND(S28/$K28*$O28,0) -> 0 | Y28: =ROUND(SUM(U28:X28),0) -> 12207 | AA28: =ROUND(Y28*5.76%,0) -> 703 | AB28: =Y28+AA28+Z28 -> 12910 | AC28: =ROUNDUP(IF(T28>21000,0,AB28*1.75%),0) -> 226 | AD28: =ROUND(U28*12%,0) -> 1465 | AE28: 1 | AF28: =ROUND((AB28+AK28)-(AC28+AD28+AE28),0) -> 11218 | AG28: =ROUNDUP(AB28*4.75%,0) -> 614 | AH28: =ROUND(U28*13%,0) -> 1587 | AI28: 2 | AJ28: =ROUND(183/K28*O28,0) -> 159 | AL28: =SUM(AG28:AK28) -> 2362 | AM28: =AB28+AL28 -> 15272 | AN28: =ROUND(500/K28*O28,0) -> 435 | AO28: =AM28+AN28 -> 15707 | AP28: =ROUND(AO28*18%,0) -> 2827 | AQ28: =AO28+AP28 -> 18534 | AU28: 3562018694
A29: 24 | B29: 3562016853 | C29: 4569 | D29: Krishan Pal | E29: Rampal | F29: 43344 | G29: Material Handler | H29: Un-Skilled | I29: 100049122538 | J29: 6712905741 | K29: 27 | L29: =VLOOKUP(B29,'[1]CBT Attendance'!$B$2:$F$29,5,0) -> 25 | O29: =SUM(L29:N29) -> 25 | P29: 14025 | Q29: 0 | R29: 0 | S29: 0 | T29: =ROUND(SUM(P29:S29),0) -> 14025 | U29: =ROUND(P29/$K29*$O29,0) -> 12986 | V29: =ROUND(Q29/$K29*$O29,0) -> 0 | W29: =ROUND(R29/$K29*$O29,0) -> 0 | X29: =ROUND(S29/$K29*$O29,0) -> 0 | Y29: =ROUND(SUM(U29:X29),0) -> 12986 | AA29: =ROUND(Y29*5.76%,0) -> 748 | AB29: =Y29+AA29+Z29 -> 13734 | AC29: =ROUNDUP(IF(T29>21000,0,AB29*1.75%),0) -> 241 | AD29: =ROUND(U29*12%,0) -> 1558 | AE29: 1 | AF29: =ROUND((AB29+AK29)-(AC29+AD29+AE29),0) -> 11934 | AG29: =ROUNDUP(AB29*4.75%,0) -> 653 | AH29: =ROUND(U29*13%,0) -> 1688 | AI29: 2 | AJ29: =ROUND(183/K29*O29,0) -> 169 | AL29: =SUM(AG29:AK29) -> 2512 | AM29: =AB29+AL29 -> 16246 | AN29: =ROUND(500/K29*O29,0) -> 463 | AO29: =AM29+AN29 -> 16709 | AP29: =ROUND(AO29*18%,0) -> 3008 | AQ29: =AO29+AP29 -> 19717 | AU29: 3562016853
A30: 25 | B30: 3562016855 | C30: 4571 | D30: Amit Kumar | E30: Narsingh Lal | F30: 43344 | G30: Material Handler | H30: Un-Skilled | I30: 100693286743 | J30: 6924189334 | K30: 27 | L30: =VLOOKUP(B30,'[1]CBT Attendance'!$B$2:$F$29,5,0) -> 25 | O30: =SUM(L30:N30) -> 25 | P30: 14025 | Q30: 0 | R30: 0 | S30: 0 | T30: =ROUND(SUM(P30:S30),0) -> 14025 | U30: =ROUND(P30/$K30*$O30,0) -> 12986 | V30: =ROUND(Q30/$K30*$O30,0) -> 0 | W30: =ROUND(R30/$K30*$O30,0) -> 0 | X30: =ROUND(S30/$K30*$O30,0) -> 0 | Y30: =ROUND(SUM(U30:X30),0) -> 12986 | AA30: =ROUND(Y30*5.76%,0) -> 748 | AB30: =Y30+AA30+Z30 -> 13734 | AC30: =ROUNDUP(IF(T30>21000,0,AB30*1.75%),0) -> 241 | AD30: =ROUND(U30*12%,0) -> 1558 | AE30: 1 | AF30: =ROUND((AB30+AK30)-(AC30+AD30+AE30),0) -> 11934 | AG30: =ROUNDUP(AB30*4.75%,0) -> 653 | AH30: =ROUND(U30*13%,0) -> 1688 | AI30: 2 | AJ30: =ROUND(183/K30*O30,0) -> 169 | AL30: =SUM(AG30:AK30) -> 2512 | AM30: =AB30+AL30 -> 16246 | AN30: =ROUND(500/K30*O30,0) -> 463 | AO30: =AM30+AN30 -> 16709 | AP30: =ROUND(AO30*18%,0) -> 3008 | AQ30: =AO30+AP30 -> 19717 | AU30: 3562016855
A31: 26 | B31: 3562019550 | C31: 5731 | D31: Ravinder Sharma | E31: Surender Kumar | F31: 43511 | G31: DEO | H31: Skilled | I31: 101424171817 | J31: 6928829241 | K31: 27 | L31: =VLOOKUP(B31,'[1]CBT Attendance'!$B$2:$F$29,5,0) -> 24.5 | O31: =SUM(L31:N31) -> 24.5 | P31: 15427 | Q31: 0 | R31: 0 | S31: 0 | T31: =ROUND(SUM(P31:S31),0) -> 15427 | U31: =ROUND(P31/$K31*$O31,0) -> 13999 | V31: =ROUND(Q31/$K31*$O31,0) -> 0 | W31: =ROUND(R31/$K31*$O31,0) -> 0 | X31: =ROUND(S31/$K31*$O31,0) -> 0 | Y31: =ROUND(SUM(U31:X31),0) -> 13999 | AA31: =ROUND(Y31*5.76%,0) -> 806 | AB31: =Y31+AA31+Z31 -> 14805 | AC31: =ROUNDUP(IF(T31>21000,0,AB31*1.75%),0) -> 260 | AD31: =ROUND(U31*12%,0) -> 1680 | AE31: 1 | AF31: =ROUND((AB31+AK31)-(AC31+AD31+AE31),0) -> 12864 | AG31: =ROUNDUP(AB31*4.75%,0) -> 704 | AH31: =ROUND(U31*13%,0) -> 1820 | AI31: 2 | AJ31: =ROUND(183/K31*O31,0) -> 166 | AL31: =SUM(AG31:AK31) -> 2692 | AM31: =AB31+AL31 -> 17497 | AN31: =ROUND(500/K31*O31,0) -> 454 | AO31: =AM31+AN31 -> 17951 | AP31: =ROUND(AO31*18%,0) -> 3231 | AQ31: =AO31+AP31 -> 21182 | AU31: 3562019550
A32: 27 | B32: 3562020946 | D32: SUJEET KUMAR SINGH | F32: 43586 | G32: MHE | H32: Un-Skilled | K32: 27 | L32: 27 | O32: =SUM(L32:N32) -> 27 | P32: 15427 | Q32: 0 | R32: 0 | S32: 0 | T32: =ROUND(SUM(P32:S32),0) -> 15427 | U32: =ROUND(P32/$K32*$O32,0) -> 15427 | V32: =ROUND(Q32/$K32*$O32,0) -> 0 | W32: =ROUND(R32/$K32*$O32,0) -> 0 | X32: =ROUND(S32/$K32*$O32,0) -> 0 | Y32: =ROUND(SUM(U32:X32),0) -> 15427 | AA32: =ROUND(Y32*5.76%,0) -> 889 | AB32: =Y32+AA32+Z32 -> 16316 | AC32: =ROUNDUP(IF(T32>21000,0,AB32*1.75%),0) -> 286 | AD32: =ROUND(U32*12%,0) -> 1851 | AE32: 1 | AF32: =ROUND((AB32+AK32)-(AC32+AD32+AE32),0) -> 14178 | AG32: =ROUNDUP(AB32*4.75%,0) -> 776 | AH32: =ROUND(U32*13%,0) -> 2006 | AI32: 2 | AJ32: =ROUND(183/K32*O32,0) -> 183 | AL32: =SUM(AG32:AK32) -> 2967 | AM32: =AB32+AL32 -> 19283 | AN32: =ROUND(500/K32*O32,0) -> 500 | AO32: =AM32+AN32 -> 19783 | AP32: =ROUND(AO32*18%,0) -> 3561 | AQ32: =AO32+AP32 -> 23344 | AU32: 3562020946
A33: 28 | B33: 3562020914 | D33: Prince Kumar | F33: 43586 | G33: SUP | H33: Skilled | K33: 27 | L33: 26 | O33: =SUM(L33:N33) -> 26 | P33: 14025 | Q33: 0 | R33: 0 | S33: 0 | T33: =ROUND(SUM(P33:S33),0) -> 14025 | U33: =ROUND(P33/$K33*$O33,0) -> 13506 | V33: =ROUND(Q33/$K33*$O33,0) -> 0 | W33: =ROUND(R33/$K33*$O33,0) -> 0 | X33: =ROUND(S33/$K33*$O33,0) -> 0 | Y33: =ROUND(SUM(U33:X33),0) -> 13506 | AA33: =ROUND(Y33*5.76%,0) -> 778 | AB33: =Y33+AA33+Z33 -> 14284 | AC33: =ROUNDUP(IF(T33>21000,0,AB33*1.75%),0) -> 250 | AD33: =ROUND(U33*12%,0) -> 1621 | AE33: 1 | AF33: =ROUND((AB33+AK33)-(AC33+AD33+AE33),0) -> 12412 | AG33: =ROUNDUP(AB33*4.75%,0) -> 679 | AH33: =ROUND(U33*13%,0) -> 1756 | AI33: 2 | AJ33: =ROUND(183/K33*O33,0) -> 176 | AL33: =SUM(AG33:AK33) -> 2613 | AM33: =AB33+AL33 -> 16897 | AN33: =ROUND(500/K33*O33,0) -> 481 | AO33: =AM33+AN33 -> 17378 | AP33: =ROUND(AO33*18%,0) -> 3128 | AQ33: =AO33+AP33 -> 20506 | AU33: 3562020914
A34: 29 | C34: 5165 | D34: PRIYA | E34: VIJAY PRASAD SHRIVASTAV | F34: 43428 | G34: DEO | H34: Skilled | I34: 101208007225 | J34: 6928605709 | K34: 27 | L34: 26 | O34: =SUM(L34:N34) -> 26 | P34: 15410 | Q34: 0 | R34: 0 | S34: 0 | T34: =ROUND(SUM(P34:S34),0) -> 15410 | U34: =ROUND(P34/$K34*$O34,0) -> 14839 | V34: =ROUND(Q34/$K34*$O34,0) -> 0 | W34: =ROUND(R34/$K34*$O34,0) -> 0 | X34: =ROUND(S34/$K34*$O34,0) -> 0 | Y34: =ROUND(SUM(U34:X34),0) -> 14839 | AA34: =ROUND(Y34*5.76%,0) -> 855 | AB34: =Y34+AA34+Z34 -> 15694 | AC34: =ROUNDUP(IF(T34>21000,0,AB34*1.75%),0) -> 275 | AD34: =ROUND(U34*12%,0) -> 1781 | AE34: 1 | AF34: =ROUND((AB34+AK34)-(AC34+AD34+AE34),0) -> 13637 | AG34: =ROUNDUP(AB34*4.75%,0) -> 746 | AH34: =ROUND(U34*13%,0) -> 1929 | AI34: 2 | AJ34: =ROUND(183/K34*O34,0) -> 176 | AL34: =SUM(AG34:AK34) -> 2853 | AM34: =AB34+AL34 -> 18547 | AN34: =ROUND(500/K34*O34,0) -> 481 | AO34: =AM34+AN34 -> 19028 | AP34: =ROUND(AO34*18%,0) -> 3425 | AQ34: =AO34+AP34 -> 22453 | AU34: #N/A
A35: 30 | C35: 4581 | D35: MANI SHANKAR TIWARI | E35: RADHA MOHAN TIWARI | F35: 43425 | G35: DEO | H35: Skilled | I35: 101293014361 | J35: 6921010976 | K35: 27 | L35: 24.5 | O35: =SUM(L35:N35) -> 24.5 | P35: 15410 | Q35: 0 | R35: 0 | S35: 0 | T35: =ROUND(SUM(P35:S35),0) -> 15410 | U35: =ROUND(P35/$K35*$O35,0) -> 13983 | V35: =ROUND(Q35/$K35*$O35,0) -> 0 | W35: =ROUND(R35/$K35*$O35,0) -> 0 | X35: =ROUND(S35/$K35*$O35,0) -> 0 | Y35: =ROUND(SUM(U35:X35),0) -> 13983 | AA35: =ROUND(Y35*5.76%,0) -> 805 | AB35: =Y35+AA35+Z35 -> 14788 | AC35: =ROUNDUP(IF(T35>21000,0,AB35*1.75%),0) -> 259 | AD35: =ROUND(U35*12%,0) -> 1678 | AE35: 1 | AF35: =ROUND((AB35+AK35)-(AC35+AD35+AE35),0) -> 12850 | AG35: =ROUNDUP(AB35*4.75%,0) -> 703 | AH35: =ROUND(U35*13%,0) -> 1818 | AI35: 2 | AJ35: =ROUND(183/K35*O35,0) -> 166 | AL35: =SUM(AG35:AK35) -> 2689 | AM35: =AB35+AL35 -> 17477 | AN35: =ROUND(500/K35*O35,0) -> 454 | AO35: =AM35+AN35 -> 17931 | AP35: =ROUND(AO35*18%,0) -> 3228 | AQ35: =AO35+AP35 -> 21159 | AU35: #N/A
A36: 31 | C36: 5166 | D36: AMITABH BACHCHAN | E36: MAHAVIR PRASAD | F36: 43420 | G36: DEO | H36: Skilled | I36: 100577021644 | J36: 6928605750 | K36: 27 | L36: 20.5 | O36: =SUM(L36:N36) -> 20.5 | P36: 15410 | Q36: 0 | R36: 0 | S36: 0 | T36: =ROUND(SUM(P36:S36),0) -> 15410 | U36: =ROUND(P36/$K36*$O36,0) -> 11700 | V36: =ROUND(Q36/$K36*$O36,0) -> 0 | W36: =ROUND(R36/$K36*$O36,0) -> 0 | X36: =ROUND(S36/$K36*$O36,0) -> 0 | Y36: =ROUND(SUM(U36:X36),0) -> 11700 | AA36: =ROUND(Y36*5.76%,0) -> 674 | AB36: =Y36+AA36+Z36 -> 12374 | AC36: =ROUNDUP(IF(T36>21000,0,AB36*1.75%),0) -> 217 | AD36: =ROUND(U36*12%,0) -> 1404 | AE36: 1 | AF36: =ROUND((AB36+AK36)-(AC36+AD36+AE36),0) -> 10752 | AG36: =ROUNDUP(AB36*4.75%,0) -> 588 | AH36: =ROUND(U36*13%,0) -> 1521 | AI36: 2 | AJ36: =ROUND(183/K36*O36,0) -> 139 | AL36: =SUM(AG36:AK36) -> 2250 | AM36: =AB36+AL36 -> 14624 | AN36: =ROUND(500/K36*O36,0) -> 380 | AO36: =AM36+AN36 -> 15004 | AP36: =ROUND(AO36*18%,0) -> 2701 | AQ36: =AO36+AP36 -> 17705 | AU36: #N/A
A37: 32 | C37: 5167 | D37: KAMAL | E37: SURESH CHAND | F37: 43423 | G37: DEO | H37: Skilled | I37: 100199682299 | J37: 6928605770 | K37: 27 | L37: 26 | O37: =SUM(L37:N37) -> 26 | P37: 15410 | Q37: 0 | R37: 0 | S37: 0 | T37: =ROUND(SUM(P37:S37),0) -> 15410 | U37: =ROUND(P37/$K37*$O37,0) -> 14839 | V37: =ROUND(Q37/$K37*$O37,0) -> 0 | W37: =ROUND(R37/$K37*$O37,0) -> 0 | X37: =ROUND(S37/$K37*$O37,0) -> 0 | Y37: =ROUND(SUM(U37:X37),0) -> 14839 | AA37: =ROUND(Y37*5.76%,0) -> 855 | AB37: =Y37+AA37+Z37 -> 15694 | AC37: =ROUNDUP(IF(T37>21000,0,AB37*1.75%),0) -> 275 | AD37: =ROUND(U37*12%,0) -> 1781 | AE37: 1 | AF37: =ROUND((AB37+AK37)-(AC37+AD37+AE37),0) -> 13637 | AG37: =ROUNDUP(AB37*4.75%,0) -> 746 | AH37: =ROUND(U37*13%,0) -> 1929 | AI37: 2 | AJ37: =ROUND(183/K37*O37,0) -> 176 | AL37: =SUM(AG37:AK37) -> 2853 | AM37: =AB37+AL37 -> 18547 | AN37: =ROUND(500/K37*O37,0) -> 481 | AO37: =AM37+AN37 -> 19028 | AP37: =ROUND(AO37*18%,0) -> 3425 | AQ37: =AO37+AP37 -> 22453 | AU37: #N/A
A38: 33 | C38: 5168 | D38: RINKU KUMAR | E38: RAJENDER SINGH | F38: 43424 | G38: DEO | H38: Skilled | I38: 101309479356 | J38: 6928605796 | K38: 27 | L38: 22.5 | O38: =SUM(L38:N38) -> 22.5 | P38: 15410 | Q38: 0 | R38: 0 | S38: 0 | T38: =ROUND(SUM(P38:S38),0) -> 15410 | U38: =ROUND(P38/$K38*$O38,0) -> 12842 | V38: =ROUND(Q38/$K38*$O38,0) -> 0 | W38: =ROUND(R38/$K38*$O38,0) -> 0 | X38: =ROUND(S38/$K38*$O38,0) -> 0 | Y38: =ROUND(SUM(U38:X38),0) -> 12842 | AA38: =ROUND(Y38*5.76%,0) -> 740 | AB38: =Y38+AA38+Z38 -> 13582 | AC38: =ROUNDUP(IF(T38>21000,0,AB38*1.75%),0) -> 238 | AD38: =ROUND(U38*12%,0) -> 1541 | AE38: 1 | AF38: =ROUND((AB38+AK38)-(AC38+AD38+AE38),0) -> 11802 | AG38: =ROUNDUP(AB38*4.75%,0) -> 646 | AH38: =ROUND(U38*13%,0) -> 1669 | AI38: 2 | AJ38: =ROUND(183/K38*O38,0) -> 153 | AL38: =SUM(AG38:AK38) -> 2470 | AM38: =AB38+AL38 -> 16052 | AN38: =ROUND(500/K38*O38,0) -> 417 | AO38: =AM38+AN38 -> 16469 | AP38: =ROUND(AO38*18%,0) -> 2964 | AQ38: =AO38+AP38 -> 19433 | AU38: #N/A
A39: 34 | C39: 5169 | D39: AJIT SINGH | E39: OM PRAKASH | F39: 43434 | G39: DEO | H39: Skilled | I39: 101371052075 | J39: 6928605805 | K39: 27 | L39: 27 | O39: =SUM(L39:N39) -> 27 | P39: 15410 | Q39: 0 | R39: 0 | S39: 0 | T39: =ROUND(SUM(P39:S39),0) -> 15410 | U39: =ROUND(P39/$K39*$O39,0) -> 15410 | V39: =ROUND(Q39/$K39*$O39,0) -> 0 | W39: =ROUND(R39/$K39*$O39,0) -> 0 | X39: =ROUND(S39/$K39*$O39,0) -> 0 | Y39: =ROUND(SUM(U39:X39),0) -> 15410 | AA39: =ROUND(Y39*5.76%,0) -> 888 | AB39: =Y39+AA39+Z39 -> 16298 | AC39: =ROUNDUP(IF(T39>21000,0,AB39*1.75%),0) -> 286 | AD39: =ROUND(U39*12%,0) -> 1849 | AE39: 1 | AF39: =ROUND((AB39+AK39)-(AC39+AD39+AE39),0) -> 14162 | AG39: =ROUNDUP(AB39*4.75%,0) -> 775 | AH39: =ROUND(U39*13%,0) -> 2003 | AI39: 2 | AJ39: =ROUND(183/K39*O39,0) -> 183 | AL39: =SUM(AG39:AK39) -> 2963 | AM39: =AB39+AL39 -> 19261 | AN39: =ROUND(500/K39*O39,0) -> 500 | AO39: =AM39+AN39 -> 19761 | AP39: =ROUND(AO39*18%,0) -> 3557 | AQ39: =AO39+AP39 -> 23318 | AU39: #N/A
A40: 35 | C40: 5170 | D40: MANISH KUMAR | E40: DEVENDER KUMAR | F40: 43423 | G40: DEO | H40: Skilled | I40: 101394558704 | J40: 6928605817 | K40: 27 | L40: 17.5 | O40: =SUM(L40:N40) -> 17.5 | P40: 15410 | Q40: 0 | R40: 0 | S40: 0 | T40: =ROUND(SUM(P40:S40),0) -> 15410 | U40: =ROUND(P40/$K40*$O40,0) -> 9988 | V40: =ROUND(Q40/$K40*$O40,0) -> 0 | W40: =ROUND(R40/$K40*$O40,0) -> 0 | X40: =ROUND(S40/$K40*$O40,0) -> 0 | Y40: =ROUND(SUM(U40:X40),0) -> 9988 | AA40: =ROUND(Y40*5.76%,0) -> 575 | AB40: =Y40+AA40+Z40 -> 10563 | AC40: =ROUNDUP(IF(T40>21000,0,AB40*1.75%),0) -> 185 | AD40: =ROUND(U40*12%,0) -> 1199 | AE40: 1 | AF40: =ROUND((AB40+AK40)-(AC40+AD40+AE40),0) -> 9178 | AG40: =ROUNDUP(AB40*4.75%,0) -> 502 | AH40: =ROUND(U40*13%,0) -> 1298 | AI40: 2 | AJ40: =ROUND(183/K40*O40,0) -> 119 | AL40: =SUM(AG40:AK40) -> 1921 | AM40: =AB40+AL40 -> 12484 | AN40: =ROUND(500/K40*O40,0) -> 324 | AO40: =AM40+AN40 -> 12808 | AP40: =ROUND(AO40*18%,0) -> 2305 | AQ40: =AO40+AP40 -> 15113 | AU40: #N/A
...

Sheet CBT Wages
A1: Location | B1: DEL111 | F1: Bill No. | G1: 0
A2: Month | B2: 45017 | F2: Head Count | G2: 46
A3: Vendor | B3: DM Industries | F3: Project | G3: DHL-Okhla-C-53 (HP-PPS)
A4: Employee's Particulars | K4: Attendance Summery | P4: Actual Rates | U4: Earning Summery | AC4: Employee's Deduction | AF4: Payble | AG4: Employer's Cost | AP4: Final Billing Cost
A5: S.No. | B5: MARS ID | C5: Vendor Code | D5: Name of Employee | E5: Father's Name | F5: DOJ | G5: Designation | H5: Category | I5: UAN | J5: ESIC | K5: Working Days | L5: No. of Present Days | M5: Paid Holiday | N5: Arrear Days | O5: Total No. of Payble Days | P5: Basic+VDA | Q5: HRA | R5: Conveyance Allow. | S5: Other Allowence Rate | T5: Total Monthly Gross | U5: Basic+VDA | V5: HRA | W5: Conveyance Allowence | X5: Other Allowence | Y5: Monthly Gross | Z5: Monthly Bonus (If Applicable) | AA5: Leave Encashment | AB5: Total Gross Earned (A) | AC5: Employee Contribution on ESIC (0.75%) | AD5: Employee Contribution on PF (12%) | AE5: Employee LWF Contribution | AF5: Net earning | AG5: Employer Contribution on ESIC (3.25%) | AH5: Employer Contribution PF (13%) | AI5: Employer Contribution on LWF | AJ5: Uniform | AK5: Attendance + Performance Incentive (If Any) | AL5: Insurance | AM5: Total (B) | AN5: Wage cost (A+B) | AO5: Agency Service Charge (C) | AP5: SUB TOTAL A+B+C=D | AQ5: GST 18% ON D | AR5: CTC
A6: 1 | B6: 3562016849 | C6: 4574 | D6: Mohit Garg | E6: Thakur Das | F6: 43344 | G6: DEO | H6: Skilled | I6: 100064441627 | J6: 6923778712 | K6: 25 | L6: 24 | M6: 0 | N6: 0 | O6: =SUM(L6:N6) -> 24 | P6: 18993 | Q6: 413 | R6: 0 | S6: 0 | T6: =ROUND(SUM(P6:S6),0) -> 19406 | U6: =ROUND(P6/$K6*$O6,0) -> 18233 | V6: =ROUND(Q6/$K6*$O6,0) -> 396 | W6: =ROUND(R6/$K6*$O6,0) -> 0 | X6: =ROUND(S6/$K6*$O6,0) -> 0 | Y6: =ROUND(SUM(U6:X6),0) -> 18629 | Z6: =ROUNDUP(U6*8.33/100,0) -> 1519 | AA6: =ROUND(Y6*5.76%,0) -> 1073 | AB6: =Y6+AA6+Z6 -> 21221 | AC6: =ROUNDUP(IF(T6>21000,0,AB6*0.75%),0) -> 160 | AD6: =ROUND(AB6-V6-Z6,0)*12% -> 2316.72 | AE6: 1 | AF6: =ROUND((AB6+AK6)-(AC6+AD6+AE6),0) -> 18743 | AG6: =ROUNDUP(AB6*3.25%,0) -> 690 | AH6: =ROUND(AB6-V6-Z6,0)*13% -> 2509.78 | AI6: 2 | AJ6: =ROUND(175/K6*O6,0) -> 168 | AK6: 0 | AL6: 0 | AM6: =SUM(AG6:AL6) -> 3369.78 | AN6: =AB6+AM6 -> 24590.78 | AO6: =ROUND(675/K6*O6,0) -> 648 | AP6: =AN6+AO6 -> 25238.78 | AQ6: =ROUND(AP6*18%,0) -> 4543 | AR6: =AP6+AQ6 -> 29781.78
A7: 2 | B7: 3562016837 | C7: 4578 | D7: Pradeep Burman | E7: Fatik Barman | F7: 43344 | G7: DEO | H7: Skilled | I7: 100014928885 | J7: 2013503576 | K7: 25 | L7: 19 | M7: 0 | N7: 0 | O7: =SUM(L7:N7) -> 19 | P7: 18993 | Q7: 0 | R7: 0 | S7: 0 | T7: =ROUND(SUM(P7:S7),0) -> 18993 | U7: =ROUND(P7/$K7*$O7,0) -> 14435 | V7: =ROUND(Q7/$K7*$O7,0) -> 0 | W7: =ROUND(R7/$K7*$O7,0) -> 0 | X7: =ROUND(S7/$K7*$O7,0) -> 0 | Y7: =ROUND(SUM(U7:X7),0) -> 14435 | Z7: =ROUNDUP(U7*8.33/100,0) -> 1203 | AA7: =ROUND(Y7*5.76%,0) -> 831 | AB7: =Y7+AA7+Z7 -> 16469 | AC7: =ROUNDUP(IF(T7>21000,0,AB7*0.75%),0) -> 124 | AD7: =ROUND(AB7-V7-Z7,0)*12% -> 1831.92 | AE7: 1 | AF7: =ROUND((AB7+AK7)-(AC7+AD7+AE7),0) -> 14512 | AG7: =ROUNDUP(AB7*3.25%,0) -> 536 | AH7: =ROUND(AB7-V7-Z7,0)*13% -> 1984.58 | AI7: 2 | AJ7: =ROUND(175/K7*O7,0) -> 133 | AK7: 0 | AL7: 0 | AM7: =SUM(AG7:AL7) -> 2655.58 | AN7: =AB7+AM7 -> 19124.58 | AO7: =ROUND(675/K7*O7,0) -> 513 | AP7: =AN7+AO7 -> 19637.58 | AQ7: =ROUND(AP7*18%,0) -> 3535 | AR7: =AP7+AQ7 -> 23172.58
A8: 3 | B8: 3562016838 | C8: 4579 | D8: Rakesh Rai | E8: Lt. Kameshwar Rai | F8: 43344 | G8: MHE | H8: Un-Skilled | I8: 100029192811 | J8: 6923778874 | K8: 25 | L8: 25 | M8: 0 | N8: 0 | O8: =SUM(L8:N8) -> 25 | P8: 17234 | Q8: 0 | R8: 0 | S8: 0 | T8: =ROUND(SUM(P8:S8),0) -> 17234 | U8: =ROUND(P8/$K8*$O8,0) -> 17234 | V8: =ROUND(Q8/$K8*$O8,0) -> 0 | W8: =ROUND(R8/$K8*$O8,0) -> 0 | X8: =ROUND(S8/$K8*$O8,0) -> 0 | Y8: =ROUND(SUM(U8:X8),0) -> 17234 | Z8: =ROUNDUP(U8*8.33/100,0) -> 1436 | AA8: =ROUND(Y8*5.76%,0) -> 993 | AB8: =Y8+AA8+Z8 -> 19663 | AC8: =ROUNDUP(IF(T8>21000,0,AB8*0.75%),0) -> 148 | AD8: =ROUND(AB8-V8-Z8,0)*12% -> 2187.24 | AE8: 1 | AF8: =ROUND((AB8+AK8)-(AC8+AD8+AE8),0) -> 17327 | AG8: =ROUNDUP(AB8*3.25%,0) -> 640 | AH8: =ROUND(AB8-V8-Z8,0)*13% -> 2369.51 | AI8: 2 | AJ8: =ROUND(175/K8*O8,0) -> 175 | AK8: 0 | AL8: 0 | AM8: =SUM(AG8:AL8) -> 3186.51 | AN8: =AB8+AM8 -> 22849.51 | AO8: =ROUND(675/K8*O8,0) -> 675 | AP8: =AN8+AO8 -> 23524.51 | AQ8: =ROUND(AP8*18%,0) -> 4234 | AR8: =AP8+AQ8 -> 27758.51
A9: 4 | B9: 3562016848 | C9: 4582 | D9: Monu Kumar | E9: Sahankar Shah | F9: 43344 | G9: MHE | H9: Un-Skilled | I9: 100052358838 | J9: 6923778820 | K9: 25 | L9: 24 | M9: 0 | N9: 0 | O9: =SUM(L9:N9) -> 24 | P9: 17234 | Q9: 0 | R9: 0 | S9: 0 | T9: =ROUND(SUM(P9:S9),0) -> 17234 | U9: =ROUND(P9/$K9*$O9,0) -> 16545 | V9: =ROUND(Q9/$K9*$O9,0) -> 0 | W9: =ROUND(R9/$K9*$O9,0) -> 0 | X9: =ROUND(S9/$K9*$O9,0) -> 0 | Y9: =ROUND(SUM(U9:X9),0) -> 16545 | Z9: =ROUNDUP(U9*8.33/100,0) -> 1379 | AA9: =ROUND(Y9*5.76%,0) -> 953 | AB9: =Y9+AA9+Z9 -> 18877 | AC9: =ROUNDUP(IF(T9>21000,0,AB9*0.75%),0) -> 142 | AD9: =ROUND(AB9-V9-Z9,0)*12% -> 2099.76 | AE9: 1 | AF9: =ROUND((AB9+AK9)-(AC9+AD9+AE9),0) -> 16634 | AG9: =ROUNDUP(AB9*3.25%,0) -> 614 | AH9: =ROUND(AB9-V9-Z9,0)*13% -> 2274.74 | AI9: 2 | AJ9: =ROUND(175/K9*O9,0) -> 168 | AK9: 0 | AL9: 0 | AM9: =SUM(AG9:AL9) -> 3058.74 | AN9: =AB9+AM9 -> 21935.74 | AO9: =ROUND(675/K9*O9,0) -> 648 | AP9: =AN9+AO9 -> 22583.74 | AQ9: =ROUND(AP9*18%,0) -> 4065 | AR9: =AP9+AQ9 -> 26648.74
A10: 5 | B10: 3562017091 | C10: 4584 | D10: Sukhram | E10: Prem Singh | F10: 43344 | G10: SUP | H10: Skilled | I10: 100042940061 | J10: 6923778693 | K10: 25 | L10: 23.5 | M10: 0 | N10: 0 | O10: =SUM(L10:N10) -> 23.5 | P10: 19070 | Q10: 760 | R10: 0 | S10: 0 | T10: =ROUND(SUM(P10:S10),0) -> 19830 | U10: =ROUND(P10/$K10*$O10,0) -> 17926 | V10: =ROUND(Q10/$K10*$O10,0) -> 714 | W10: =ROUND(R10/$K10*$O10,0) -> 0 | X10: =ROUND(S10/$K10*$O10,0) -> 0 | Y10: =ROUND(SUM(U10:X10),0) -> 18640 | Z10: =ROUNDUP(U10*8.33/100,0) -> 1494 | AA10: =ROUND(Y10*5.76%,0) -> 1074 | AB10: =Y10+AA10+Z10 -> 21208 | AC10: =ROUNDUP(IF(T10>21000,0,AB10*0.75%),0) -> 160 | AD10: =ROUND(AB10-V10-Z10,0)*12% -> 2280 | AE10: 1 | AF10: =ROUND((AB10+AK10)-(AC10+AD10+AE10),0) -> 18767 | AG10: =ROUNDUP(AB10*3.25%,0) -> 690 | AH10: =ROUND(AB10-V10-Z10,0)*13% -> 2470 | AI10: 2 | AJ10: =ROUND(175/K10*O10,0) -> 165 | AK10: 0 | AL10: 0 | AM10: =SUM(AG10:AL10) -> 3327 | AN10: =AB10+AM10 -> 24535 | AO10: =ROUND(675/K10*O10,0) -> 635 | AP10: =AN10+AO10 -> 25170 | AQ10: =ROUND(AP10*18%,0) -> 4531 | AR10: =AP10+AQ10 -> 29701
A11: 6 | B11: 3562016834 | C11: 4585 | D11: Manjeet Kumar | E11: Rajpal Singh Rudhir | F11: 43344 | G11: SUP | H11: Skilled | I11: 100045820193 | J11: 6923778590 | K11: 25 | L11: 25 | M11: 0 | N11: 0 | O11: =SUM(L11:N11) -> 25 | P11: 19070 | Q11: 2255 | R11: 0 | S11: 0 | T11: =ROUND(SUM(P11:S11),0) -> 21325 | U11: =ROUND(P11/$K11*$O11,0) -> 19070 | V11: =ROUND(Q11/$K11*$O11,0) -> 2255 | W11: =ROUND(R11/$K11*$O11,0) -> 0 | X11: =ROUND(S11/$K11*$O11,0) -> 0 | Y11: =ROUND(SUM(U11:X11),0) -> 21325 | Z11: =ROUNDUP(U11*8.33/100,0) -> 1589 | AA11: =ROUND(Y11*5.76%,0) -> 1228 | AB11: =Y11+AA11+Z11 -> 24142 | AC11: =ROUNDUP(IF(T11>21000,0,AB11*0.75%),0) -> 0 | AD11: =ROUND(AB11-V11-Z11,0)*12% -> 2435.76 | AE11: 1 | AF11: =ROUND((AB11+AK11)-(AC11+AD11+AE11),0) -> 21705 | AG11: 0 | AH11: =ROUND(AB11-V11-Z11,0)*13% -> 2638.74 | AI11: 2 | AJ11: =ROUND(175/K11*O11,0) -> 175 | AK11: 0 | AL11: 500 | AM11: =SUM(AG11:AL11) -> 3315.74 | AN11: =AB11+AM11 -> 27457.74 | AO11: =ROUND(675/K11*O11,0) -> 675 | AP11: =AN11+AO11 -> 28132.74 | AQ11: =ROUND(AP11*18%,0) -> 5064 | AR11: =AP11+AQ11 -> 33196.74
A12: 7 | B12: 3562016859 | C12: 4586 | D12: Ravi Singh | E12: Chandrma Singh | F12: 43344 | G12: MHE | H12: Un-Skilled | I12: 100602011514 | J12: 6925327635 | K12: 25 | L12: 23 | M12: 0 | N12: 0 | O12: =SUM(L12:N12) -> 23 | P12: 17234 | Q12: 0 | R12: 0 | S12: 0 | T12: =ROUND(SUM(P12:S12),0) -> 17234 | U12: =ROUND(P12/$K12*$O12,0) -> 15855 | V12: =ROUND(Q12/$K12*$O12,0) -> 0 | W12: =ROUND(R12/$K12*$O12,0) -> 0 | X12: =ROUND(S12/$K12*$O12,0) -> 0 | Y12: =ROUND(SUM(U12:X12),0) -> 15855 | Z12: =ROUNDUP(U12*8.33/100,0) -> 1321 | AA12: =ROUND(Y12*5.76%,0) -> 913 | AB12: =Y12+AA12+Z12 -> 18089 | AC12: =ROUNDUP(IF(T12>21000,0,AB12*0.75%),0) -> 136 | AD12: =ROUND(AB12-V12-Z12,0)*12% -> 2012.16 | AE12: 1 | AF12: =ROUND((AB12+AK12)-(AC12+AD12+AE12),0) -> 15940 | AG12: =ROUNDUP(AB12*3.25%,0) -> 588 | AH12: =ROUND(AB12-V12-Z12,0)*13% -> 2179.84 | AI12: 2 | AJ12: =ROUND(175/K12*O12,0) -> 161 | AK12: 0 | AL12: 0 | AM12: =SUM(AG12:AL12) -> 2930.84 | AN12: =AB12+AM12 -> 21019.84 | AO12: =ROUND(675/K12*O12,0) -> 621 | AP12: =AN12+AO12 -> 21640.84 | AQ12: =ROUND(AP12*18%,0) -> 3895 | AR12: =AP12+AQ12 -> 25535.84
A13: 8 | B13: 3562016860 | C13: 4587 | D13: Vishnu Singh Bhadauria | E13: Keshav Singh | F13: 43344 | G13: MHE | H13: Un-Skilled | I13: 100790454436 | J13: 6926208346 | K13: 25 | L13: 24 | M13: 0 | N13: 0 | O13: =SUM(L13:N13) -> 24 | P13: 17234 | Q13: 0 | R13: 0 | S13: 0 | T13: =ROUND(SUM(P13:S13),0) -> 17234 | U13: =ROUND(P13/$K13*$O13,0) -> 16545 | V13: =ROUND(Q13/$K13*$O13,0) -> 0 | W13: =ROUND(R13/$K13*$O13,0) -> 0 | X13: =ROUND(S13/$K13*$O13,0) -> 0 | Y13: =ROUND(SUM(U13:X13),0) -> 16545 | Z13: =ROUNDUP(U13*8.33/100,0) -> 1379 | AA13: =ROUND(Y13*5.76%,0) -> 953 | AB13: =Y13+AA13+Z13 -> 18877 | AC13: =ROUNDUP(IF(T13>21000,0,AB13*0.75%),0) -> 142 | AD13: =ROUND(AB13-V13-Z13,0)*12% -> 2099.76 | AE13: 1 | AF13: =ROUND((AB13+AK13)-(AC13+AD13+AE13),0) -> 16634 | AG13: =ROUNDUP(AB13*3.25%,0) -> 614 | AH13: =ROUND(AB13-V13-Z13,0)*13% -> 2274.74 | AI13: 2 | AJ13: =ROUND(175/K13*O13,0) -> 168 | AK13: 0 | AL13: 0 | AM13: =SUM(AG13:AL13) -> 3058.74 | AN13: =AB13+AM13 -> 21935.74 | AO13: =ROUND(675/K13*O13,0) -> 648 | AP13: =AN13+AO13 -> 22583.74 | AQ13: =ROUND(AP13*18%,0) -> 4065 | AR13: =AP13+AQ13 -> 26648.74
A14: 9 | B14: 3562018698 | C14: 4716 | D14: Rohit Kumar Jha | E14: PRADEEP JHA | F14: 43385 | G14: MHE | H14: Un-Skilled | I14: 101391614640 | J14: 6928479073 | K14: 25 | L14: 23 | M14: 0 | N14: 0 | O14: =SUM(L14:N14) -> 23 | P14: 17234 | Q14: 0 | R14: 0 | S14: 0 | T14: =ROUND(SUM(P14:S14),0) -> 17234 | U14: =ROUND(P14/$K14*$O14,0) -> 15855 | V14: =ROUND(Q14/$K14*$O14,0) -> 0 | W14: =ROUND(R14/$K14*$O14,0) -> 0 | X14: =ROUND(S14/$K14*$O14,0) -> 0 | Y14: =ROUND(SUM(U14:X14),0) -> 15855 | Z14: =ROUNDUP(U14*8.33/100,0) -> 1321 | AA14: =ROUND(Y14*5.76%,0) -> 913 | AB14: =Y14+AA14+Z14 -> 18089 | AC14: =ROUNDUP(IF(T14>21000,0,AB14*0.75%),0) -> 136 | AD14: =ROUND(AB14-V14-Z14,0)*12% -> 2012.16 | AE14: 1 | AF14: =ROUND((AB14+AK14)-(AC14+AD14+AE14),0) -> 15940 | AG14: =ROUNDUP(AB14*3.25%,0) -> 588 | AH14: =ROUND(AB14-V14-Z14,0)*13% -> 2179.84 | AI14: 2 | AJ14: =ROUND(175/K14*O14,0) -> 161 | AK14: 0 | AL14: 0 | AM14: =SUM(AG14:AL14) -> 2930.84 | AN14: =AB14+AM14 -> 21019.84 | AO14: =ROUND(675/K14*O14,0) -> 621 | AP14: =AN14+AO14 -> 21640.84 | AQ14: =ROUND(AP14*18%,0) -> 3895 | AR14: =AP14+AQ14 -> 25535.84
A15: 10 | B15: 3562017275 | C15: 4717 | D15: Sanjay Kumar sharma | E15: MUNESHWAR | F15: 43388 | G15: MHE | H15: Un-Skilled | I15: 100987276215 | J15: 6931232028 | K15: 25 | L15: 22.5 | M15: 0 | N15: 0 | O15: =SUM(L15:N15) -> 22.5 | P15: 17234 | Q15: 0 | R15: 0 | S15: 0 | T15: =ROUND(SUM(P15:S15),0) -> 17234 | U15: =ROUND(P15/$K15*$O15,0) -> 15511 | V15: =ROUND(Q15/$K15*$O15,0) -> 0 | W15: =ROUND(R15/$K15*$O15,0) -> 0 | X15: =ROUND(S15/$K15*$O15,0) -> 0 | Y15: =ROUND(SUM(U15:X15),0) -> 15511 | Z15: =ROUNDUP(U15*8.33/100,0) -> 1293 | AA15: =ROUND(Y15*5.76%,0) -> 893 | AB15: =Y15+AA15+Z15 -> 17697 | AC15: =ROUNDUP(IF(T15>21000,0,AB15*0.75%),0) -> 133 | AD15: =ROUND(AB15-V15-Z15,0)*12% -> 1968.48 | AE15: 1 | AF15: =ROUND((AB15+AK15)-(AC15+AD15+AE15),0) -> 15595 | AG15: =ROUNDUP(AB15*3.25%,0) -> 576 | AH15: =ROUND(AB15-V15-Z15,0)*13% -> 2132.52 | AI15: 2 | AJ15: =ROUND(175/K15*O15,0) -> 158 | AK15: 0 | AL15: 0 | AM15: =SUM(AG15:AL15) -> 2868.52 | AN15: =AB15+AM15 -> 20565.52 | AO15: =ROUND(675/K15*O15,0) -> 608 | AP15: =AN15+AO15 -> 21173.52 | AQ15: =ROUND(AP15*18%,0) -> 3811 | AR15: =AP15+AQ15 -> 24984.52
A16: 11 | B16: 3562018733 | C16: 5022 | D16: Sunil | E16: SHALIK RAM | F16: 43435 | G16: MHE | H16: Un-Skilled | I16: 100052616305 | J16: 6928684196 | K16: 25 | L16: 20.5 | M16: 0 | N16: 0 | O16: =SUM(L16:N16) -> 20.5 | P16: 17234 | Q16: 0 | R16: 0 | S16: 0 | T16: =ROUND(SUM(P16:S16),0) -> 17234 | U16: =ROUND(P16/$K16*$O16,0) -> 14132 | V16: =ROUND(Q16/$K16*$O16,0) -> 0 | W16: =ROUND(R16/$K16*$O16,0) -> 0 | X16: =ROUND(S16/$K16*$O16,0) -> 0 | Y16: =ROUND(SUM(U16:X16),0) -> 14132 | Z16: =ROUNDUP(U16*8.33/100,0) -> 1178 | AA16: =ROUND(Y16*5.76%,0) -> 814 | AB16: =Y16+AA16+Z16 -> 16124 | AC16: =ROUNDUP(IF(T16>21000,0,AB16*0.75%),0) -> 121 | AD16: =ROUND(AB16-V16-Z16,0)*12% -> 1793.52 | AE16: 1 | AF16: =ROUND((AB16+AK16)-(AC16+AD16+AE16),0) -> 14208 | AG16: =ROUNDUP(AB16*3.25%,0) -> 525 | AH16: =ROUND(AB16-V16-Z16,0)*13% -> 1942.98 | AI16: 2 | AJ16: =ROUND(175/K16*O16,0) -> 144 | AK16: 0 | AL16: 0 | AM16: =SUM(AG16:AL16) -> 2613.98 | AN16: =AB16+AM16 -> 18737.98 | AO16: =ROUND(675/K16*O16,0) -> 554 | AP16: =AN16+AO16 -> 19291.98 | AQ16: =ROUND(AP16*18%,0) -> 3473 | AR16: =AP16+AQ16 -> 22764.98
A17: 12 | B17: 3562018693 | C17: 5171 | D17: GOVIND SINGH BISHT | E17: SATYAPAL SINGH BISHT | F17: 43417 | G17: MHE | H17: Un-Skilled | I17: 100054044626 | J17: 6928605832 | K17: 25 | L17: 19 | M17: 0 | N17: 0 | O17: =SUM(L17:N17) -> 19 | P17: 17234 | Q17: 0 | R17: 0 | S17: 0 | T17: =ROUND(SUM(P17:S17),0) -> 17234 | U17: =ROUND(P17/$K17*$O17,0) -> 13098 | V17: =ROUND(Q17/$K17*$O17,0) -> 0 | W17: =ROUND(R17/$K17*$O17,0) -> 0 | X17: =ROUND(S17/$K17*$O17,0) -> 0 | Y17: =ROUND(SUM(U17:X17),0) -> 13098 | Z17: =ROUNDUP(U17*8.33/100,0) -> 1092 | AA17: =ROUND(Y17*5.76%,0) -> 754 | AB17: =Y17+AA17+Z17 -> 14944 | AC17: =ROUNDUP(IF(T17>21000,0,AB17*0.75%),0) -> 113 | AD17: =ROUND(AB17-V17-Z17,0)*12% -> 1662.24 | AE17: 1 | AF17: =ROUND((AB17+AK17)-(AC17+AD17+AE17),0) -> 13168 | AG17: =ROUNDUP(AB17*3.25%,0) -> 486 | AH17: =ROUND(AB17-V17-Z17,0)*13% -> 1800.76 | AI17: 2 | AJ17: =ROUND(175/K17*O17,0) -> 133 | AK17: 0 | AL17: 0 | AM17: =SUM(AG17:AL17) -> 2421.76 | AN17: =AB17+AM17 -> 17365.76 | AO17: =ROUND(675/K17*O17,0) -> 513 | AP17: =AN17+AO17 -> 17878.76 | AQ17: =ROUND(AP17*18%,0) -> 3218 | AR17: =AP17+AQ17 -> 21096.76
A18: 13 | B18: 3562018691 | C18: 5172 | D18: ALOPI NATH DHURIYA | E18: MOTI LAL | F18: 43423 | G18: MHE | H18: Un-Skilled | I18: 101314833334 | J18: 6923778505 | K18: 25 | L18: 23 | M18: 0 | N18: 0 | O18: =SUM(L18:N18) -> 23 | P18: 17234 | Q18: 0 | R18: 0 | S18: 0 | T18: =ROUND(SUM(P18:S18),0) -> 17234 | U18: =ROUND(P18/$K18*$O18,0) -> 15855 | V18: =ROUND(Q18/$K18*$O18,0) -> 0 | W18: =ROUND(R18/$K18*$O18,0) -> 0 | X18: =ROUND(S18/$K18*$O18,0) -> 0 | Y18: =ROUND(SUM(U18:X18),0) -> 15855 | Z18: =ROUNDUP(U18*8.33/100,0) -> 1321 | AA18: =ROUND(Y18*5.76%,0) -> 913 | AB18: =Y18+AA18+Z18 -> 18089 | AC18: =ROUNDUP(IF(T18>21000,0,AB18*0.75%),0) -> 136 | AD18: =ROUND(AB18-V18-Z18,0)*12% -> 2012.16 | AE18: 1 | AF18: =ROUND((AB18+AK18)-(AC18+AD18+AE18),0) -> 15940 | AG18: =ROUNDUP(AB18*3.25%,0) -> 588 | AH18: =ROUND(AB18-V18-Z18,0)*13% -> 2179.84 | AI18: 2 | AJ18: =ROUND(175/K18*O18,0) -> 161 | AK18: 0 | AL18: 0 | AM18: =SUM(AG18:AL18) -> 2930.84 | AN18: =AB18+AM18 -> 21019.84 | AO18: =ROUND(675/K18*O18,0) -> 621 | AP18: =AN18+AO18 -> 21640.84 | AQ18: =ROUND(AP18*18%,0) -> 3895 | AR18: =AP18+AQ18 -> 25535.84
A19: 14 | B19: 3562018690 | C19: 5173 | D19: Rakesh | E19: JANMEJAY UPDHYAY | F19: 43423 | G19: MHE | H19: Un-Skilled | I19: 101305290317 | J19: 2013722633 | K19: 25 | L19: 24 | M19: 0 | N19: 0 | O19: =SUM(L19:N19) -> 24 | P19: 17234 | Q19: 0 | R19: 0 | S19: 0 | T19: =ROUND(SUM(P19:S19),0) -> 17234 | U19: =ROUND(P19/$K19*$O19,0) -> 16545 | V19: =ROUND(Q19/$K19*$O19,0) -> 0 | W19: =ROUND(R19/$K19*$O19,0) -> 0 | X19: =ROUND(S19/$K19*$O19,0) -> 0 | Y19: =ROUND(SUM(U19:X19),0) -> 16545 | Z19: =ROUNDUP(U19*8.33/100,0) -> 1379 | AA19: =ROUND(Y19*5.76%,0) -> 953 | AB19: =Y19+AA19+Z19 -> 18877 | AC19: =ROUNDUP(IF(T19>21000,0,AB19*0.75%),0) -> 142 | AD19: =ROUND(AB19-V19-Z19,0)*12% -> 2099.76 | AE19: 1 | AF19: =ROUND((AB19+AK19)-(AC19+AD19+AE19),0) -> 16634 | AG19: =ROUNDUP(AB19*3.25%,0) -> 614 | AH19: =ROUND(AB19-V19-Z19,0)*13% -> 2274.74 | AI19: 2 | AJ19: =ROUND(175/K19*O19,0) -> 168 | AK19: 0 | AL19: 0 | AM19: =SUM(AG19:AL19) -> 3058.74 | AN19: =AB19+AM19 -> 21935.74 | AO19: =ROUND(675/K19*O19,0) -> 648 | AP19: =AN19+AO19 -> 22583.74 | AQ19: =ROUND(AP19*18%,0) -> 4065 | AR19: =AP19+AQ19 -> 26648.74
A20: 15 | B20: 3562018692 | C20: 5174 | D20: AAKASH SINGH | E20: SURENDER SINGH | F20: 43420 | G20: MHE | H20: Un-Skilled | I20: 101380346724 | J20: 6928605925 | K20: 25 | L20: 21.5 | M20: 0 | N20: 0 | O20: =SUM(L20:N20) -> 21.5 | P20: 17234 | Q20: 0 | R20: 0 | S20: 0 | T20: =ROUND(SUM(P20:S20),0) -> 17234 | U20: =ROUND(P20/$K20*$O20,0) -> 14821 | V20: =ROUND(Q20/$K20*$O20,0) -> 0 | W20: =ROUND(R20/$K20*$O20,0) -> 0 | X20: =ROUND(S20/$K20*$O20,0) -> 0 | Y20: =ROUND(SUM(U20:X20),0) -> 14821 | Z20: =ROUNDUP(U20*8.33/100,0) -> 1235 | AA20: =ROUND(Y20*5.76%,0) -> 854 | AB20: =Y20+AA20+Z20 -> 16910 | AC20: =ROUNDUP(IF(T20>21000,0,AB20*0.75%),0) -> 127 | AD20: =ROUND(AB20-V20-Z20,0)*12% -> 1881 | AE20: 1 | AF20: =ROUND((AB20+AK20)-(AC20+AD20+AE20),0) -> 14901 | AG20: =ROUNDUP(AB20*3.25%,0) -> 550 | AH20: =ROUND(AB20-V20-Z20,0)*13% -> 2037.75 | AI20: 2 | AJ20: =ROUND(175/K20*O20,0) -> 151 | AK20: 0 | AL20: 0 | AM20: =SUM(AG20:AL20) -> 2740.75 | AN20: =AB20+AM20 -> 19650.75 | AO20: =ROUND(675/K20*O20,0) -> 581 | AP20: =AN20+AO20 -> 20231.75 | AQ20: =ROUND(AP20*18%,0) -> 3642 | AR20: =AP20+AQ20 -> 23873.75
A21: 16 | B21: 3562018732 | C21: 5175 | D21: Rakesh SINGH | E21: KISHORI SINGH | F21: 43419 | G21: MHE | H21: Un-Skilled | I21: 101381078520 | J21: 6928605942 | K21: 25 | L21: 19.5 | M21: 0 | N21: 0 | O21: =SUM(L21:N21) -> 19.5 | P21: 17234 | Q21: 0 | R21: 0 | S21: 0 | T21: =ROUND(SUM(P21:S21),0) -> 17234 | U21: =ROUND(P21/$K21*$O21,0) -> 13443 | V21: =ROUND(Q21/$K21*$O21,0) -> 0 | W21: =ROUND(R21/$K21*$O21,0) -> 0 | X21: =ROUND(S21/$K21*$O21,0) -> 0 | Y21: =ROUND(SUM(U21:X21),0) -> 13443 | Z21: =ROUNDUP(U21*8.33/100,0) -> 1120 | AA21: =ROUND(Y21*5.76%,0) -> 774 | AB21: =Y21+AA21+Z21 -> 15337 | AC21: =ROUNDUP(IF(T21>21000,0,AB21*0.75%),0) -> 116 | AD21: =ROUND(AB21-V21-Z21,0)*12% -> 1706.04 | AE21: 1 | AF21: =ROUND((AB21+AK21)-(AC21+AD21+AE21),0) -> 13514 | AG21: =ROUNDUP(AB21*3.25%,0) -> 499 | AH21: =ROUND(AB21-V21-Z21,0)*13% -> 1848.21 | AI21: 2 | AJ21: =ROUND(175/K21*O21,0) -> 137 | AK21: 0 | AL21: 0 | AM21: =SUM(AG21:AL21) -> 2486.21 | AN21: =AB21+AM21 -> 17823.21 | AO21: =ROUND(675/K21*O21,0) -> 527 | AP21: =AN21+AO21 -> 18350.21 | AQ21: =ROUND(AP21*18%,0) -> 3303 | AR21: =AP21+AQ21 -> 21653.21
A22: 17 | B22: 3562018694 | C22: 5176 | D22: SONU KUMAR | E22: MATAL BADAL | F22: 43421 | G22: MHE | H22: Un-Skilled | I22: 101380345314 | J22: 6928605954 | K22: 25 | L22: 25 | M22: 0 | N22: 0 | O22: =SUM(L22:N22) -> 25 | P22: 17234 | Q22: 0 | R22: 0 | S22: 0 | T22: =ROUND(SUM(P22:S22),0) -> 17234 | U22: =ROUND(P22/$K22*$O22,0) -> 17234 | V22: =ROUND(Q22/$K22*$O22,0) -> 0 | W22: =ROUND(R22/$K22*$O22,0) -> 0 | X22: =ROUND(S22/$K22*$O22,0) -> 0 | Y22: =ROUND(SUM(U22:X22),0) -> 17234 | Z22: =ROUNDUP(U22*8.33/100,0) -> 1436 | AA22: =ROUND(Y22*5.76%,0) -> 993 | AB22: =Y22+AA22+Z22 -> 19663 | AC22: =ROUNDUP(IF(T22>21000,0,AB22*0.75%),0) -> 148 | AD22: =ROUND(AB22-V22-Z22,0)*12% -> 2187.24 | AE22: 1 | AF22: =ROUND((AB22+AK22)-(AC22+AD22+AE22),0) -> 17327 | AG22: =ROUNDUP(AB22*3.25%,0) -> 640 | AH22: =ROUND(AB22-V22-Z22,0)*13% -> 2369.51 | AI22: 2 | AJ22: =ROUND(175/K22*O22,0) -> 175 | AK22: 0 | AL22: 0 | AM22: =SUM(AG22:AL22) -> 3186.51 | AN22: =AB22+AM22 -> 22849.51 | AO22: =ROUND(675/K22*O22,0) -> 675 | AP22: =AN22+AO22 -> 23524.51 | AQ22: =ROUND(AP22*18%,0) -> 4234 | AR22: =AP22+AQ22 -> 27758.51
A23: 18 | B23: 3562016855 | C23: 4571 | D23: Amit Kumar | E23: Narsingh Lal | F23: 43344 | G23: Material Handler | H23: Un-Skilled | I23: 100693286743 | J23: 6924189334 | K23: 25 | L23: 25 | M23: 0 | N23: 0 | O23: =SUM(L23:N23) -> 25 | P23: 17234 | Q23: 0 | R23: 0 | S23: 0 | T23: =ROUND(SUM(P23:S23),0) -> 17234 | U23: =ROUND(P23/$K23*$O23,0) -> 17234 | V23: =ROUND(Q23/$K23*$O23,0) -> 0 | W23: =ROUND(R23/$K23*$O23,0) -> 0 | X23: =ROUND(S23/$K23*$O23,0) -> 0 | Y23: =ROUND(SUM(U23:X23),0) -> 17234 | Z23: =ROUNDUP(U23*8.33/100,0) -> 1436 | AA23: =ROUND(Y23*5.76%,0) -> 993 | AB23: =Y23+AA23+Z23 -> 19663 | AC23: =ROUNDUP(IF(T23>21000,0,AB23*0.75%),0) -> 148 | AD23: =ROUND(AB23-V23-Z23,0)*12% -> 2187.24 | AE23: 1 | AF23: =ROUND((AB23+AK23)-(AC23+AD23+AE23),0) -> 17327 | AG23: =ROUNDUP(AB23*3.25%,0) -> 640 | AH23: =ROUND(AB23-V23-Z23,0)*13% -> 2369.51 | AI23: 2 | AJ23: =ROUND(175/K23*O23,0) -> 175 | AK23: 0 | AL23: 0 | AM23: =SUM(AG23:AL23) -> 3186.51 | AN23: =AB23+AM23 -> 22849.51 | AO23: =ROUND(675/K23*O23,0) -> 675 | AP23: =AN23+AO23 -> 23524.51 | AQ23: =ROUND(AP23*18%,0) -> 4234 | AR23: =AP23+AQ23 -> 27758.51
A24: 19 | B24: 3562020946 | C24: 6363 | D24: Sujeet Kumar Singh | E24: Manohar Singh | F24: 43586 | G24: MHE | H24: Un-Skilled | I24: 100655312597 | J24: 6929096411 | K24: 25 | L24: 24 | M24: 0 | N24: 0 | O24: =SUM(L24:N24) -> 24 | P24: 17234 | Q24: 0 | R24: 0 | S24: 0 | T24: =ROUND(SUM(P24:S24),0) -> 17234 | U24: =ROUND(P24/$K24*$O24,0) -> 16545 | V24: =ROUND(Q24/$K24*$O24,0) -> 0 | W24: =ROUND(R24/$K24*$O24,0) -> 0 | X24: =ROUND(S24/$K24*$O24,0) -> 0 | Y24: =ROUND(SUM(U24:X24),0) -> 16545 | Z24: =ROUNDUP(U24*8.33/100,0) -> 1379 | AA24: =ROUND(Y24*5.76%,0) -> 953 | AB24: =Y24+AA24+Z24 -> 18877 | AC24: =ROUNDUP(IF(T24>21000,0,AB24*0.75%),0) -> 142 | AD24: =ROUND(AB24-V24-Z24,0)*12% -> 2099.76 | AE24: 1 | AF24: =ROUND((AB24+AK24)-(AC24+AD24+AE24),0) -> 16634 | AG24: =ROUNDUP(AB24*3.25%,0) -> 614 | AH24: =ROUND(AB24-V24-Z24,0)*13% -> 2274.74 | AI24: 2 | AJ24: =ROUND(175/K24*O24,0) -> 168 | AK24: 0 | AL24: 0 | AM24: =SUM(AG24:AL24) -> 3058.74 | AN24: =AB24+AM24 -> 21935.74 | AO24: =ROUND(675/K24*O24,0) -> 648 | AP24: =AN24+AO24 -> 22583.74 | AQ24: =ROUND(AP24*18%,0) -> 4065 | AR24: =AP24+AQ24 -> 26648.74
